BEGIN:VCALENDAR
VERSION:2.0
PRODID:-//Northeast Ohio Parent - ECPv5.16.4//NONSGML v1.0//EN
CALSCALE:GREGORIAN
METHOD:PUBLISH
X-WR-CALNAME:Northeast Ohio Parent
X-ORIGINAL-URL:https://www.northeastohioparent.com
X-WR-CALDESC:Events for Northeast Ohio Parent
BEGIN:VTIMEZONE
TZID:America/New_York
BEGIN:DAYLIGHT
TZOFFSETFROM:-0500
TZOFFSETTO:-0400
TZNAME:EDT
DTSTART:20260308T070000
END:DAYLIGHT
BEGIN:STANDARD
TZOFFSETFROM:-0400
TZOFFSETTO:-0500
TZNAME:EST
DTSTART:20261101T060000
END:STANDARD
END:VTIMEZONE
BEGIN:VEVENT
DTSTART;VALUE=DATE:20260601
DTEND;VALUE=DATE:20260602
DTSTAMP:20260422T204554
CREATED:20260420T164626Z
LAST-MODIFIED:20260420T164626Z
UID:191958-1780272000-1780358399@www.northeastohioparent.com
SUMMARY:1\,000 Books Before Kindergarten
DESCRIPTION:Children who have not started kindergarten can sign up. 
URL:https://www.northeastohioparent.com/event/1000-books-before-kindergarten/
LOCATION:Stow-Monroe Falls Public Library\, 3512 Darrow Road\, Stow\, United States
CATEGORIES:educational,Library
GEO:41.160826;-81.440856
X-APPLE-STRUCTURED-LOCATION;VALUE=URI;X-ADDRESS=Stow-Monroe Falls Public Library 3512 Darrow Road Stow United States;X-APPLE-RADIUS=500;X-TITLE=3512 Darrow Road:geo:-81.440856,41.160826
END:VEVENT
END:VCALENDAR