BEGIN:VCALENDAR
VERSION:2.0
PRODID:-//Northeast Ohio Parent - ECPv5.16.4//NONSGML v1.0//EN
CALSCALE:GREGORIAN
METHOD:PUBLISH
X-WR-CALNAME:Northeast Ohio Parent
X-ORIGINAL-URL:https://www.northeastohioparent.com
X-WR-CALDESC:Events for Northeast Ohio Parent
BEGIN:VTIMEZONE
TZID:America/New_York
BEGIN:DAYLIGHT
TZOFFSETFROM:-0500
TZOFFSETTO:-0400
TZNAME:EDT
DTSTART:20250309T070000
END:DAYLIGHT
BEGIN:STANDARD
TZOFFSETFROM:-0400
TZOFFSETTO:-0500
TZNAME:EST
DTSTART:20251102T060000
END:STANDARD
END:VTIMEZONE
BEGIN:VEVENT
DTSTART;TZID=America/New_York:20251129T100000
DTEND;TZID=America/New_York:20251129T160000
DTSTAMP:20260424T155327
CREATED:20250825T141113Z
LAST-MODIFIED:20250825T141113Z
UID:158436-1764410400-1764432000@www.northeastohioparent.com
SUMMARY:2025 Avon Winter Avant-Garde Art & Craft Show
DESCRIPTION:Get a jump start on holiday shopping Black Friday weekend and celebrate Small Business\nSaturday with us! This large show will feature artists and crafters selling their original\nhandmade items at this beautiful venue! Admission is $3 to the public\, children under 12 are\nfree! This event will also have a full concessions stand on site provided by the venue. A\nportion of proceeds will benefit local non-profit\, the Smiles for Sophie Forever.
URL:https://www.northeastohioparent.com/event/2025-avon-winter-avant-garde-art-craft-show-2/
LOCATION:Emerald Event Center\, 33040 Just Imagine Dr.\, Avon\, 44011
ATTACH;FMTTYPE=image/jpeg:https://www.northeastohioparent.com/wp-content/uploads/2025/08/logo_120-1.jpg
END:VEVENT
END:VCALENDAR