BEGIN:VCALENDAR
VERSION:2.0
PRODID:-//Northeast Ohio Parent - ECPv5.16.4//NONSGML v1.0//EN
CALSCALE:GREGORIAN
METHOD:PUBLISH
X-WR-CALNAME:Northeast Ohio Parent
X-ORIGINAL-URL:https://www.northeastohioparent.com
X-WR-CALDESC:Events for Northeast Ohio Parent
BEGIN:VTIMEZONE
TZID:America/New_York
BEGIN:DAYLIGHT
TZOFFSETFROM:-0500
TZOFFSETTO:-0400
TZNAME:EDT
DTSTART:20260308T070000
END:DAYLIGHT
BEGIN:STANDARD
TZOFFSETFROM:-0400
TZOFFSETTO:-0500
TZNAME:EST
DTSTART:20261101T060000
END:STANDARD
END:VTIMEZONE
BEGIN:VEVENT
DTSTART;VALUE=DATE:20260522
DTEND;VALUE=DATE:20260523
DTSTAMP:20260424T135032
CREATED:20250519T033832Z
LAST-MODIFIED:20260417T221859Z
UID:154415-1779408000-1779494399@www.northeastohioparent.com
SUMMARY:2025 Berea’s National Rib Cook-Off & Beer Fest at the Cuyahoga County Fairgrounds
DESCRIPTION:Popular for its Family Picnic-Style Atmosphere\, the 26th Annual Berea’s National Rib Cook-Off & Beer Fest held at the Cuyahoga County Fairgrounds begins on Friday\, May 23rd at noon and extends throughout the Memorial Day Weekend\, wrapping up Monday evening\, May 25th at 7 p.m.\n\n\nAdmission is FREE from noon till 5PM on Friday and then just $10 all weekend long (Friday after 5PM\, Saturday\, Sunday and Monday) and kids under 12 are admitted for free! On Monday (Memorial Day) all retired and active military personnel showing military ID will be admitted for FREE to the event. Berea’s National Rib Cook-Off & Beer Fest is a Rain or Shine Event. As always\, FREE PARKING ALL WEEKEND LONG.\n\n \n\n\nEleven (11) Rib Teams will compete from all over the United States in hopes of garnering one of the three (3) major awards: Best Ribs\, Best Sauce and People’s Choice. Your vote counts and winners will be announced on Memorial Day afternoon at the Main Stage.\n\n\nWith the continued popularity of craft beer in the Cleveland Market\, Beverage Distributors will offer local selections from the Brew Kettle\, Collision Bend and Sun Cruiser along with Leinenkugel’s Summer Shandy\, White Claw Seltzer\, and more.\n\n\nThe Affordable Family Fun includes a Kids Activity Area with a Rock-Climbing Wall\, a Super-Slide\, Swings and more.\n\n\nEnjoy a showcase of a wide variety of musical entertainment spanning generations and genres that will take the Southwest General Health Center Stage throughout the weekend. Musical Entertainment is FREE with your paid cook-off gate admission.
URL:https://www.northeastohioparent.com/event/2025-bereas-national-rib-cook-off-beer-fest-at-the-cuyahoga-county-fairgrounds/
LOCATION:Cuyahoga County Fairgrounds\, 19201 Bagley Dr\, Middleburg Heights\, OH\, 44130\, United States
CATEGORIES:Festivals,food,Memorial Day,Special Event,Special Events
ATTACH;FMTTYPE=image/jpeg:https://www.northeastohioparent.com/wp-content/uploads/2025/05/Rib_Cookoff_logo_2025.jpg
END:VEVENT
END:VCALENDAR