BEGIN:VCALENDAR
VERSION:2.0
PRODID:-//Northeast Ohio Parent - ECPv5.16.4//NONSGML v1.0//EN
CALSCALE:GREGORIAN
METHOD:PUBLISH
X-WR-CALNAME:Northeast Ohio Parent
X-ORIGINAL-URL:https://www.northeastohioparent.com
X-WR-CALDESC:Events for Northeast Ohio Parent
BEGIN:VTIMEZONE
TZID:America/New_York
BEGIN:DAYLIGHT
TZOFFSETFROM:-0500
TZOFFSETTO:-0400
TZNAME:EDT
DTSTART:20250309T070000
END:DAYLIGHT
BEGIN:STANDARD
TZOFFSETFROM:-0400
TZOFFSETTO:-0500
TZNAME:EST
DTSTART:20251102T060000
END:STANDARD
END:VTIMEZONE
BEGIN:VEVENT
DTSTART;TZID=America/New_York:20251206T100000
DTEND;TZID=America/New_York:20251206T160000
DTSTAMP:20260424T113950
CREATED:20251009T131408Z
LAST-MODIFIED:20251009T131408Z
UID:160469-1765015200-1765036800@www.northeastohioparent.com
SUMMARY:2025 Solon Hometown Holiday Market
DESCRIPTION:2025 Solon Hometown Holiday Market\nAnother fun city wide Solon event that is free to the public! Celebrate the holiday season\nwhile shopping local! This handmade market will be organized by the Avant-Garde Art &\nCraft Show team and feature artists and crafters selling their original items! This show is\ncurrently accepting vendors. Free admission to the public!. ​​​\nThis event is currently accepting vendors. Please visit www.avantgardeshows.com and\nclick the vendor portal tab or email becki@ag-shows.com.\nFor more information about the Avant-Garde Art & Craft Shows\, please\nvisit www.avantgardeshows.com. Also\, become a fan and follow us on Facebook\, Twitter\,\nInstagram and LinkedIn!\nLocation:\nCity of Solon Recreation Center\n35000 Portz Parkway\nSolon\, OH 44139\nDate:\nSaturday\, December 6\, 2025\nTime:\n10:00am-4:00pm\nFACEBOOK EVENT LINK: https://www.facebook.com/events/611213031818836
URL:https://www.northeastohioparent.com/event/2025-solon-hometown-holiday-market/
LOCATION:Solon Recreation Center\, 35000 Portz Parkway\, Solon\, 44139
ATTACH;FMTTYPE=image/jpeg:https://www.northeastohioparent.com/wp-content/uploads/2025/09/SolonLogo.jpg
END:VEVENT
END:VCALENDAR