BEGIN:VCALENDAR
VERSION:2.0
PRODID:-//Northeast Ohio Parent - ECPv5.16.4//NONSGML v1.0//EN
CALSCALE:GREGORIAN
METHOD:PUBLISH
X-WR-CALNAME:Northeast Ohio Parent
X-ORIGINAL-URL:https://www.northeastohioparent.com
X-WR-CALDESC:Events for Northeast Ohio Parent
BEGIN:VTIMEZONE
TZID:America/New_York
BEGIN:DAYLIGHT
TZOFFSETFROM:-0500
TZOFFSETTO:-0400
TZNAME:EDT
DTSTART:20260308T070000
END:DAYLIGHT
BEGIN:STANDARD
TZOFFSETFROM:-0400
TZOFFSETTO:-0500
TZNAME:EST
DTSTART:20261101T060000
END:STANDARD
END:VTIMEZONE
BEGIN:VEVENT
DTSTART;TZID=America/New_York:20260509T100000
DTEND;TZID=America/New_York:20260509T160000
DTSTAMP:20260424T124930
CREATED:20260302T170706Z
LAST-MODIFIED:20260302T170706Z
UID:174205-1778320800-1778342400@www.northeastohioparent.com
SUMMARY:2026 Solon Spring & Shop Handmade Market
DESCRIPTION:Join us for a city-wide handmade market this spring in partnership with the city of Solon!\n\n\nThis handmade market will be organized by the Avant-Garde Art & Craft Show team and feature artists and crafters selling their original items! Free admission to the public!\n\n \n\n\nThis event is currently accepting vendors. Please visit www.avantgardeshows.com and click the vendor portal tab!\n\n\nFor more information about the Avant-Garde Art & Craft Shows\, please visit www.avantgardeshows.com. Also\, become a fan and follow us on Facebook\, Twitter\, Instagram and LinkedIn!
URL:https://www.northeastohioparent.com/event/2026-solon-spring-shop-handmade-market/
LOCATION:Solon Recreation Center\, 35000 Portz Parkway\, Solon\, 44139
ATTACH;FMTTYPE=image/jpeg:https://www.northeastohioparent.com/wp-content/uploads/2026/03/SolonSpring.jpg
END:VEVENT
END:VCALENDAR