BEGIN:VCALENDAR
VERSION:2.0
PRODID:-//Northeast Ohio Parent - ECPv5.16.4//NONSGML v1.0//EN
CALSCALE:GREGORIAN
METHOD:PUBLISH
X-WR-CALNAME:Northeast Ohio Parent
X-ORIGINAL-URL:https://www.northeastohioparent.com
X-WR-CALDESC:Events for Northeast Ohio Parent
BEGIN:VTIMEZONE
TZID:America/New_York
BEGIN:DAYLIGHT
TZOFFSETFROM:-0500
TZOFFSETTO:-0400
TZNAME:EDT
DTSTART:20250309T070000
END:DAYLIGHT
BEGIN:STANDARD
TZOFFSETFROM:-0400
TZOFFSETTO:-0500
TZNAME:EST
DTSTART:20251102T060000
END:STANDARD
END:VTIMEZONE
BEGIN:VEVENT
DTSTART;VALUE=DATE:20251011
DTEND;VALUE=DATE:20251012
DTSTAMP:20260425T215803
CREATED:20250915T005019Z
LAST-MODIFIED:20250915T005022Z
UID:160767-1760140800-1760227199@www.northeastohioparent.com
SUMMARY:42nd Annual Pumpkin Festival
DESCRIPTION:The Festival includes the opportunity to enjoy Wagon Rides\, explore a 5 acre Corn Maze\, play an assortment of games including Corn Hole\, Giant Jenga\, Giant Four Across\, Checkers with mini pumpkins\, and the nine hole course of Foot Golf. The Kid’s Play Area has a straw jump\, a Corn Pit\, slides\, an uncovered maze made out of straw bales\, and more. Play all day with a $10 Pumpkin Festival Wristband. (Children 0-2 & are free.)\n\n\nA Wagon Ride through the Red Wagon Land of the Scarecrows is available with the purchase of a Single Wagon Ride ticket for $5.\n\n \n\n\nCorn Maze raffles are also back this year. Master the Corn Maze and take selfies with each character. Upload character photos to Facebook or Instagram and tag @RedWagonFarm to be automatically entered into the raffle. Winners will be announced regularly and sent a Red Wagon Gift Card.\n\n\nSeltzers and hard ciders are made on the farm as well as Ice Cream and Bakery items. Enjoy food trucks\, including fresh cut fries & funnel cakes\, the Pumpkin Patch (sold by the pound)\, and the Market. Cornstalks\, Straw Bales\, fresh seasonal fruits and vegetables\, an assortment of gifts & locally made products are available at the Market.\n\n\nThrough 10/26. 10 a.m.-5 p.m.
URL:https://www.northeastohioparent.com/event/42nd-annual-pumpkin-festival/2025-10-11/
LOCATION:The Red Wagon Farm\, 16801 East River Road\, Columbia Station\, OH\, United States
CATEGORIES:Fall Fun,Festivals
ATTACH;FMTTYPE=image/jpeg:https://www.northeastohioparent.com/wp-content/uploads/2018/09/pumpkins.jpg
GEO:41.29868;-81.90949
X-APPLE-STRUCTURED-LOCATION;VALUE=URI;X-ADDRESS=The Red Wagon Farm 16801 East River Road Columbia Station OH United States;X-APPLE-RADIUS=500;X-TITLE=16801 East River Road:geo:-81.90949,41.29868
END:VEVENT
END:VCALENDAR