BEGIN:VCALENDAR
VERSION:2.0
PRODID:-//Northeast Ohio Parent - ECPv5.16.4//NONSGML v1.0//EN
CALSCALE:GREGORIAN
METHOD:PUBLISH
X-WR-CALNAME:Northeast Ohio Parent
X-ORIGINAL-URL:https://www.northeastohioparent.com
X-WR-CALDESC:Events for Northeast Ohio Parent
BEGIN:VTIMEZONE
TZID:America/New_York
BEGIN:DAYLIGHT
TZOFFSETFROM:-0500
TZOFFSETTO:-0400
TZNAME:EDT
DTSTART:20260308T070000
END:DAYLIGHT
BEGIN:STANDARD
TZOFFSETFROM:-0400
TZOFFSETTO:-0500
TZNAME:EST
DTSTART:20261101T060000
END:STANDARD
END:VTIMEZONE
BEGIN:VEVENT
DTSTART;VALUE=DATE:20260530
DTEND;VALUE=DATE:20260603
DTSTAMP:20260426T002018
CREATED:20260424T183555Z
LAST-MODIFIED:20260424T184233Z
UID:192256-1780099200-1780444799@www.northeastohioparent.com
SUMMARY:78th Annual ACE-CWRU Book Sale
DESCRIPTION:Book lovers\, collectors\, and bargain hunters—mark your calendars!\n\n\nHosted by the Association for Continuing Education at Case Western Reserve University\, this annual event is one of the largest book sales in Northeast Ohio.\n\n \n\n\nThe 78th Annual ACE-CWRU Book Sale returns to Cleveland with over 100\,000 books\, plus vinyl records\, CDs\, DVDs\, sheet music\, and rare collectible titles—all available at deeply discounted prices. This beloved event draws readers and professional book dealers from across the region in search of hidden literary treasures. Prices start as low as 50 cents\, with special discount days and the popular Final Day Box Sale.\n\n\nSCHEDULE\nSaturday\, May 30\n10 AM – 12 PM: $25 Admission Preview Sale\n12 PM – 5 PM: Free General Admission\nSunday\, May 31\n12 PM – 5 PM: Free General Admission & Shopper Coupon Day\n(Save $5 on your first $15 purchase with coupon)\nMonday\, June 1\n12 PM – 5 PM: Reduced Pricing\nTuesday\, June 2\n9 AM – 1 PM: Final Day – BOX SALE (Fill a box of books for just $10)\n\n\nWHAT YOU’LL FIND\n– Rare & antiquarian books\n– Art\, literature\, history & politics\n– Fiction & children’s books\n– Foreign language titles\n– Cookbooks & hobby books\n– Vinyl records\, CDs & DVDs\n– Sheet music & multimedia\n– Ephemera & collectible items\n\n\nPAYMENT METHODS\nCash\, checks\, debit cards\, and credit cards are accepted (minimum $5 charge for credit card transactions).
URL:https://www.northeastohioparent.com/event/78th-annual-ace-cwru-book-sale/
LOCATION:ACE-CWRU\, 3631 Perkins Avenue\, Cleveland\, OH\, 44114\, United States
ATTACH;FMTTYPE=image/jpeg:https://www.northeastohioparent.com/wp-content/uploads/2026/04/VF_2026-ACE-BOOK-SALE_IG-Facebook-Post-Square-22.jpg
END:VEVENT
END:VCALENDAR