BEGIN:VCALENDAR
VERSION:2.0
PRODID:-//Northeast Ohio Parent - ECPv5.16.4//NONSGML v1.0//EN
CALSCALE:GREGORIAN
METHOD:PUBLISH
X-WR-CALNAME:Northeast Ohio Parent
X-ORIGINAL-URL:https://www.northeastohioparent.com
X-WR-CALDESC:Events for Northeast Ohio Parent
BEGIN:VTIMEZONE
TZID:America/New_York
BEGIN:DAYLIGHT
TZOFFSETFROM:-0500
TZOFFSETTO:-0400
TZNAME:EDT
DTSTART:20260308T070000
END:DAYLIGHT
BEGIN:STANDARD
TZOFFSETFROM:-0400
TZOFFSETTO:-0500
TZNAME:EST
DTSTART:20261101T060000
END:STANDARD
END:VTIMEZONE
BEGIN:VEVENT
DTSTART;VALUE=DATE:20260118
DTEND;VALUE=DATE:20260119
DTSTAMP:20260423T150920
CREATED:20251208T214704Z
LAST-MODIFIED:20251208T214704Z
UID:170501-1768694400-1768780799@www.northeastohioparent.com
SUMMARY:Adapted Movie Night: Frozen 2
DESCRIPTION:An enjoyable and accessible movie experience for families with sensory needs. 5-8 p.m. 
URL:https://www.northeastohioparent.com/event/adapted-movie-night-frozen-2/
LOCATION:Coventry Oaks Area\, 40 Axline Ave.\, Akron
CATEGORIES:Movie,Special Needs
GEO:41.017927;-81.522616
X-APPLE-STRUCTURED-LOCATION;VALUE=URI;X-ADDRESS=Coventry Oaks Area 40 Axline Ave. Akron;X-APPLE-RADIUS=500;X-TITLE=40 Axline Ave.:geo:-81.522616,41.017927
END:VEVENT
END:VCALENDAR