BEGIN:VCALENDAR
VERSION:2.0
PRODID:-//Northeast Ohio Parent - ECPv5.16.4//NONSGML v1.0//EN
CALSCALE:GREGORIAN
METHOD:PUBLISH
X-WR-CALNAME:Northeast Ohio Parent
X-ORIGINAL-URL:https://www.northeastohioparent.com
X-WR-CALDESC:Events for Northeast Ohio Parent
BEGIN:VTIMEZONE
TZID:America/New_York
BEGIN:DAYLIGHT
TZOFFSETFROM:-0500
TZOFFSETTO:-0400
TZNAME:EDT
DTSTART:20260308T070000
END:DAYLIGHT
BEGIN:STANDARD
TZOFFSETFROM:-0400
TZOFFSETTO:-0500
TZNAME:EST
DTSTART:20261101T060000
END:STANDARD
END:VTIMEZONE
BEGIN:VEVENT
DTSTART;VALUE=DATE:20260528
DTEND;VALUE=DATE:20260529
DTSTAMP:20260426T001958
CREATED:20260419T220750Z
LAST-MODIFIED:20260419T220750Z
UID:191894-1779926400-1780012799@www.northeastohioparent.com
SUMMARY:After School Studio: Cardboard Garden
DESCRIPTION:Students will work together to “grow” a collaborative cardboard garden. Ages 5-12. 4-6 p.m. 
URL:https://www.northeastohioparent.com/event/after-school-studio-cardboard-garden/
LOCATION:Akron Art Museum\, 1 S. High St.\, Akron\, OH\, 44308\, United States
CATEGORIES:Art,Garden
GEO:41.084313;-81.5153629
X-APPLE-STRUCTURED-LOCATION;VALUE=URI;X-ADDRESS=Akron Art Museum 1 S. High St. Akron OH 44308 United States;X-APPLE-RADIUS=500;X-TITLE=1 S. High St.:geo:-81.5153629,41.084313
END:VEVENT
END:VCALENDAR