BEGIN:VCALENDAR
VERSION:2.0
PRODID:-//Northeast Ohio Parent - ECPv5.16.4//NONSGML v1.0//EN
CALSCALE:GREGORIAN
METHOD:PUBLISH
X-WR-CALNAME:Northeast Ohio Parent
X-ORIGINAL-URL:https://www.northeastohioparent.com
X-WR-CALDESC:Events for Northeast Ohio Parent
BEGIN:VTIMEZONE
TZID:America/New_York
BEGIN:DAYLIGHT
TZOFFSETFROM:-0500
TZOFFSETTO:-0400
TZNAME:EDT
DTSTART:20260308T070000
END:DAYLIGHT
BEGIN:STANDARD
TZOFFSETFROM:-0400
TZOFFSETTO:-0500
TZNAME:EST
DTSTART:20261101T060000
END:STANDARD
END:VTIMEZONE
BEGIN:VEVENT
DTSTART;VALUE=DATE:20260507
DTEND;VALUE=DATE:20260508
DTSTAMP:20260425T071402
CREATED:20260417T173118Z
LAST-MODIFIED:20260417T173118Z
UID:191650-1778112000-1778198399@www.northeastohioparent.com
SUMMARY:All About Mom
DESCRIPTION:Celebrate all things mom with personalized photos\, strolling music and refreshments. 11 a.m.-3 p.m. 
URL:https://www.northeastohioparent.com/event/all-about-mom/
LOCATION:First & Main\, 43 Village Way #206\, Hudson\, OH\, United States
CATEGORIES:Library,Mother's Day
GEO:41.230233;-81.4345035
X-APPLE-STRUCTURED-LOCATION;VALUE=URI;X-ADDRESS=First & Main 43 Village Way #206 Hudson OH United States;X-APPLE-RADIUS=500;X-TITLE=43 Village Way #206:geo:-81.4345035,41.230233
END:VEVENT
END:VCALENDAR