BEGIN:VCALENDAR
VERSION:2.0
PRODID:-//Northeast Ohio Parent - ECPv5.16.4//NONSGML v1.0//EN
CALSCALE:GREGORIAN
METHOD:PUBLISH
X-WR-CALNAME:Northeast Ohio Parent
X-ORIGINAL-URL:https://www.northeastohioparent.com
X-WR-CALDESC:Events for Northeast Ohio Parent
BEGIN:VTIMEZONE
TZID:America/New_York
BEGIN:DAYLIGHT
TZOFFSETFROM:-0500
TZOFFSETTO:-0400
TZNAME:EDT
DTSTART:20260308T070000
END:DAYLIGHT
BEGIN:STANDARD
TZOFFSETFROM:-0400
TZOFFSETTO:-0500
TZNAME:EST
DTSTART:20261101T060000
END:STANDARD
END:VTIMEZONE
BEGIN:VEVENT
DTSTART;TZID=America/New_York:20260429T170000
DTEND;TZID=America/New_York:20260429T190000
DTSTAMP:20260425T100514
CREATED:20260420T160918Z
LAST-MODIFIED:20260420T160918Z
UID:189745-1777482000-1777489200@www.northeastohioparent.com
SUMMARY:Ask a Pharmacist: Take Medications with Confidence
DESCRIPTION:Medication safety plays a critical role in your overall health\, from how well your treatments work to preventing harmful side effects and interactions. Understanding how to properly manage your medications can help you stay on track\, avoid complications\, and feel more confident in your care.\n\n\nKellie Krueger\, PharmD\, will share simple\, practical guidance on how to take medications safely and effectively. \n\n \n\n\nBefore the talk\, from 5 -6 p.m.\, attendees are encouraged to bring their medications for a personalized review and expert advice from one of our MetroHealth Pharmacists to help ensure they are using them safely and correctly.
URL:https://www.northeastohioparent.com/event/ask-a-pharmacist-take-medications-with-confidence/
LOCATION:Mandel Auditorium Cleveland Metroparks’ Zoo\, 3900 Wildlife Way\, Cleveland\, 44109
ATTACH;FMTTYPE=image/jpeg:https://www.northeastohioparent.com/wp-content/uploads/2026/04/Baird_Jennifer_Pharmacy_02.jpg
END:VEVENT
END:VCALENDAR