BEGIN:VCALENDAR
VERSION:2.0
PRODID:-//Northeast Ohio Parent - ECPv5.16.4//NONSGML v1.0//EN
CALSCALE:GREGORIAN
METHOD:PUBLISH
X-WR-CALNAME:Northeast Ohio Parent
X-ORIGINAL-URL:https://www.northeastohioparent.com
X-WR-CALDESC:Events for Northeast Ohio Parent
BEGIN:VTIMEZONE
TZID:America/New_York
BEGIN:DAYLIGHT
TZOFFSETFROM:-0500
TZOFFSETTO:-0400
TZNAME:EDT
DTSTART:20250309T070000
END:DAYLIGHT
BEGIN:STANDARD
TZOFFSETFROM:-0400
TZOFFSETTO:-0500
TZNAME:EST
DTSTART:20251102T060000
END:STANDARD
END:VTIMEZONE
BEGIN:VEVENT
DTSTART;VALUE=DATE:20251227
DTEND;VALUE=DATE:20251228
DTSTAMP:20260423T215728
CREATED:20251217T125746Z
LAST-MODIFIED:20251222T063931Z
UID:171260-1766793600-1766879999@www.northeastohioparent.com
SUMMARY:Event of the Week: Backyard Basketball Night with the Cleveland MELONHEADS
DESCRIPTION:Fire up the PC’s for Backyard Basketball Night with the Cleveland MELONHEADS! \n\nThat’s right\, the Cleveland Charge will transform into the iconic Backyard Sports team\, the Melonheads for one night only to face off against the Delaware Blue Coats on Saturday\, December 27 at 7 p.m.\n      \n\nPlus\, the first 1\,500 fans receive a Pablo Sanchez Bobblecard courtesy of Truenorth Convenience Stores. \n\nTickets are on sale now! \n\n     
URL:https://www.northeastohioparent.com/event/backyard-basketball-night-with-the-cleveland-melonheads/
LOCATION:Public Hall\, 500 Lakeside Ave\, Cleveland\, OH\, United States
CATEGORIES:Special Event,Sports
ATTACH;FMTTYPE=image/jpeg:https://www.northeastohioparent.com/wp-content/uploads/2025/12/251212-MELONHEADS-JERSEY-REVEAL-DJ-11.jpg
END:VEVENT
END:VCALENDAR