BEGIN:VCALENDAR
VERSION:2.0
PRODID:-//Northeast Ohio Parent - ECPv5.16.4//NONSGML v1.0//EN
CALSCALE:GREGORIAN
METHOD:PUBLISH
X-WR-CALNAME:Northeast Ohio Parent
X-ORIGINAL-URL:https://www.northeastohioparent.com
X-WR-CALDESC:Events for Northeast Ohio Parent
BEGIN:VTIMEZONE
TZID:America/New_York
BEGIN:DAYLIGHT
TZOFFSETFROM:-0500
TZOFFSETTO:-0400
TZNAME:EDT
DTSTART:20260308T070000
END:DAYLIGHT
BEGIN:STANDARD
TZOFFSETFROM:-0400
TZOFFSETTO:-0500
TZNAME:EST
DTSTART:20261101T060000
END:STANDARD
END:VTIMEZONE
BEGIN:VEVENT
DTSTART;VALUE=DATE:20260606
DTEND;VALUE=DATE:20260607
DTSTAMP:20260422T220312
CREATED:20260420T172724Z
LAST-MODIFIED:20260420T172724Z
UID:191976-1780704000-1780790399@www.northeastohioparent.com
SUMMARY:Bald Eagle & Osprey Kayak
DESCRIPTION:A free three-mile lake float observing and learning about local birds for children ages 10 and up with an adult. Search for Osprey and Bald Eagles and learn cool facts about these birds of prey. Kayaking experience required. Bring a snack\, water and sunscreen. Registration is required and begins May 29th at 10 a.m. 1-3 p.m. 
URL:https://www.northeastohioparent.com/event/bald-eagle-osprey-kayak/
LOCATION:Headwaters Park\, 13365 Old State Road\, Claridon & Huntsburg Townships\, OH\, United States
CATEGORIES:Animals,Outdoors,Sports
ATTACH;FMTTYPE=image/jpeg:https://www.northeastohioparent.com/wp-content/uploads/2014/02/Kayaking-Geauga-Park-District.jpg
END:VEVENT
END:VCALENDAR