BEGIN:VCALENDAR
VERSION:2.0
PRODID:-//Northeast Ohio Parent - ECPv5.16.4//NONSGML v1.0//EN
CALSCALE:GREGORIAN
METHOD:PUBLISH
X-WR-CALNAME:Northeast Ohio Parent
X-ORIGINAL-URL:https://www.northeastohioparent.com
X-WR-CALDESC:Events for Northeast Ohio Parent
BEGIN:VTIMEZONE
TZID:America/New_York
BEGIN:DAYLIGHT
TZOFFSETFROM:-0500
TZOFFSETTO:-0400
TZNAME:EDT
DTSTART:20250309T070000
END:DAYLIGHT
BEGIN:STANDARD
TZOFFSETFROM:-0400
TZOFFSETTO:-0500
TZNAME:EST
DTSTART:20251102T060000
END:STANDARD
END:VTIMEZONE
BEGIN:VEVENT
DTSTART;VALUE=DATE:20251207
DTEND;VALUE=DATE:20251208
DTSTAMP:20260422T131733
CREATED:20251114T182724Z
LAST-MODIFIED:20251114T182724Z
UID:167543-1765065600-1765151999@www.northeastohioparent.com
SUMMARY:Ballet Theatre of Ohio presents “The Nutcracker”
DESCRIPTION:This classic has become a treasured holiday tradition for families of all ages. 
URL:https://www.northeastohioparent.com/event/ballet-theatre-of-ohio-presents-the-nutcracker-3/2025-12-07/
LOCATION:Akron Civic Theatre\, 182 South Main Street\, Akron\, OH\, United States
CATEGORIES:Holiday,Theater
END:VEVENT
END:VCALENDAR