BEGIN:VCALENDAR
VERSION:2.0
PRODID:-//Northeast Ohio Parent - ECPv5.16.4//NONSGML v1.0//EN
CALSCALE:GREGORIAN
METHOD:PUBLISH
X-WR-CALNAME:Northeast Ohio Parent
X-ORIGINAL-URL:https://www.northeastohioparent.com
X-WR-CALDESC:Events for Northeast Ohio Parent
BEGIN:VTIMEZONE
TZID:America/New_York
BEGIN:DAYLIGHT
TZOFFSETFROM:-0500
TZOFFSETTO:-0400
TZNAME:EDT
DTSTART:20260308T070000
END:DAYLIGHT
BEGIN:STANDARD
TZOFFSETFROM:-0400
TZOFFSETTO:-0500
TZNAME:EST
DTSTART:20261101T060000
END:STANDARD
END:VTIMEZONE
BEGIN:VEVENT
DTSTART;VALUE=DATE:20260120
DTEND;VALUE=DATE:20260121
DTSTAMP:20260423T133808
CREATED:20251208T224640Z
LAST-MODIFIED:20251208T224640Z
UID:170592-1768867200-1768953599@www.northeastohioparent.com
SUMMARY:Bark Break
DESCRIPTION:Register to read with a therapy dog. 6-7 p.m. 
URL:https://www.northeastohioparent.com/event/bark-break/
LOCATION:Eastlake Public Library\, 36706 Lake Shore Blvd.\, Eastlake\, OH
CATEGORIES:Animals,Library
GEO:41.6830415;-81.4215919
X-APPLE-STRUCTURED-LOCATION;VALUE=URI;X-ADDRESS=Eastlake Public Library 36706 Lake Shore Blvd. Eastlake OH;X-APPLE-RADIUS=500;X-TITLE=36706 Lake Shore Blvd.:geo:-81.4215919,41.6830415
END:VEVENT
END:VCALENDAR