BEGIN:VCALENDAR
VERSION:2.0
PRODID:-//Northeast Ohio Parent - ECPv5.16.4//NONSGML v1.0//EN
CALSCALE:GREGORIAN
METHOD:PUBLISH
X-WR-CALNAME:Northeast Ohio Parent
X-ORIGINAL-URL:https://www.northeastohioparent.com
X-WR-CALDESC:Events for Northeast Ohio Parent
BEGIN:VTIMEZONE
TZID:America/New_York
BEGIN:DAYLIGHT
TZOFFSETFROM:-0500
TZOFFSETTO:-0400
TZNAME:EDT
DTSTART:20250309T070000
END:DAYLIGHT
BEGIN:STANDARD
TZOFFSETFROM:-0400
TZOFFSETTO:-0500
TZNAME:EST
DTSTART:20251102T060000
END:STANDARD
END:VTIMEZONE
BEGIN:VEVENT
DTSTART;TZID=America/New_York:20251122T170000
DTEND;TZID=America/New_York:20251122T190000
DTSTAMP:20260424T184553
CREATED:20250907T235811Z
LAST-MODIFIED:20250907T235822Z
UID:159826-1763830800-1763838000@www.northeastohioparent.com
SUMMARY:Beachwood Arts Council Presents Around the World in Art Exhibit
DESCRIPTION:International images by the following local artists will be featured: Sawson Alhaddad (oil/acrylic)\,\nSusan Lash (photographer)\, and\nRichard Litwin (watercolor).\nPlease join us for the opening reception on November 22nd\, from 5-7p.m.\nEnjoy refreshments and meet the artists.\n\n\nBeachwood Community Center Gallery Hours\nMonday-Friday 8:00am – 4:00pm\n Weekends: Call 216-292-1970 by appointment only.\nFree and open to the public\n\n \n\n\nBeachwood Arts Council is made possible in part by an investment of public funds from the Ohio Arts Council (OAC). The OAC is a state agency that funds and supports quality arts experiences to strengthen Ohio communities culturally\, educationally\, and economically.
URL:https://www.northeastohioparent.com/event/beachwood-arts-council-presents-around-the-world-in-art-exhibit/
LOCATION:Beachwood Community Center\, 25225 Fairmount Blvd.\, Beachwood\, 44122
ATTACH;FMTTYPE=image/jpeg:https://www.northeastohioparent.com/wp-content/uploads/2025/08/Untitled-design50.jpg
ORGANIZER;CN="Beachwood%20Arts%20Council":MAILTO:info@beachwoodartscouncil.org
GEO:41.4871658;-81.4987257
X-APPLE-STRUCTURED-LOCATION;VALUE=URI;X-ADDRESS=Beachwood Community Center 25225 Fairmount Blvd. Beachwood 44122;X-APPLE-RADIUS=500;X-TITLE=25225 Fairmount Blvd.:geo:-81.4987257,41.4871658
END:VEVENT
END:VCALENDAR