BEGIN:VCALENDAR
VERSION:2.0
PRODID:-//Northeast Ohio Parent - ECPv5.16.4//NONSGML v1.0//EN
CALSCALE:GREGORIAN
METHOD:PUBLISH
X-WR-CALNAME:Northeast Ohio Parent
X-ORIGINAL-URL:https://www.northeastohioparent.com
X-WR-CALDESC:Events for Northeast Ohio Parent
BEGIN:VTIMEZONE
TZID:America/New_York
BEGIN:DAYLIGHT
TZOFFSETFROM:-0500
TZOFFSETTO:-0400
TZNAME:EDT
DTSTART:20260308T070000
END:DAYLIGHT
BEGIN:STANDARD
TZOFFSETFROM:-0400
TZOFFSETTO:-0500
TZNAME:EST
DTSTART:20261101T060000
END:STANDARD
END:VTIMEZONE
BEGIN:VEVENT
DTSTART;TZID=America/New_York:20260510T140000
DTEND;TZID=America/New_York:20260510T150000
DTSTAMP:20260425T191740
CREATED:20260420T160918Z
LAST-MODIFIED:20260420T160918Z
UID:191573-1778421600-1778425200@www.northeastohioparent.com
SUMMARY:Beachwood Arts Council Presents Sunday Sounds: Cleveland Orchestra Bass QuartetConcert
DESCRIPTION:The Cleveland Orchestra Bass Quartet\, made up of (from left) Scott Dixon\, Derek Zadinsky\, Charles Paul\, and Mark Atherton are  members of The Cleveland\nOrchestra’s double bass section.  They explore a bass quartet repertoire that includes original works as well as arrangements of favorite classical pieces.
URL:https://www.northeastohioparent.com/event/beachwood-arts-council-presents-sunday-sounds-cleveland-orchestra-bass-quartetconcert/
LOCATION:Beachwood Community Center\, 25225 Fairmount Blvd.\, Beachwood\, 44122
ATTACH;FMTTYPE=image/jpeg:https://www.northeastohioparent.com/wp-content/uploads/2026/04/Copy-of-Copy-of-Copy-of-Untitled-Design27.jpg
ORGANIZER;CN="Beachwood%20Arts%20Council":MAILTO:info@beachwoodartscouncil.org
GEO:41.4871658;-81.4987257
X-APPLE-STRUCTURED-LOCATION;VALUE=URI;X-ADDRESS=Beachwood Community Center 25225 Fairmount Blvd. Beachwood 44122;X-APPLE-RADIUS=500;X-TITLE=25225 Fairmount Blvd.:geo:-81.4987257,41.4871658
END:VEVENT
END:VCALENDAR