BEGIN:VCALENDAR
VERSION:2.0
PRODID:-//Northeast Ohio Parent - ECPv5.16.4//NONSGML v1.0//EN
CALSCALE:GREGORIAN
METHOD:PUBLISH
X-WR-CALNAME:Northeast Ohio Parent
X-ORIGINAL-URL:https://www.northeastohioparent.com
X-WR-CALDESC:Events for Northeast Ohio Parent
BEGIN:VTIMEZONE
TZID:America/New_York
BEGIN:DAYLIGHT
TZOFFSETFROM:-0500
TZOFFSETTO:-0400
TZNAME:EDT
DTSTART:20260308T070000
END:DAYLIGHT
BEGIN:STANDARD
TZOFFSETFROM:-0400
TZOFFSETTO:-0500
TZNAME:EST
DTSTART:20261101T060000
END:STANDARD
END:VTIMEZONE
BEGIN:VEVENT
DTSTART;TZID=America/New_York:20260412T140000
DTEND;TZID=America/New_York:20260412T150000
DTSTAMP:20260424T100531
CREATED:20260302T170705Z
LAST-MODIFIED:20260302T170705Z
UID:174195-1776002400-1776006000@www.northeastohioparent.com
SUMMARY:Beachwood Arts Council Presents Sunday Sounds: Debbie Darling Quartet Concert
DESCRIPTION:Debbie Darling\, a singer/ songwriter who has performed a wide range of musical styles\, from opera to jazz to blues and everything in between\, has provided her vocal talents for small bands\, large orchestras\, and commercial voice overs. Having performed all over northeast Ohio and beyond\, she has sung with Stanley Turrentine\, The Peter Duchin Band\, and The Tommy Dorsey Band. A motivational speaker and international best- selling author\, Debbie was the president of The Presentation Pros\, a soft-skills training company teaching all aspects of presenting\, and has been on numerous radio and television shows\, including Hard Copy\, The Richard Simmons Show and the Oprah Winfrey Show.
URL:https://www.northeastohioparent.com/event/beachwood-arts-council-presents-sunday-sounds-debbie-darling-quartet-concert/
LOCATION:Beachwood Community Center\, 25225 Fairmount Blvd.\, Beachwood\, 44122
ATTACH;FMTTYPE=image/jpeg:https://www.northeastohioparent.com/wp-content/uploads/2026/03/Copy-of-Copy-of-Copy-of-Untitled-Design25.jpg
ORGANIZER;CN="Beachwood%20Arts%20Council":MAILTO:info@beachwoodartscouncil.org
GEO:41.4871658;-81.4987257
X-APPLE-STRUCTURED-LOCATION;VALUE=URI;X-ADDRESS=Beachwood Community Center 25225 Fairmount Blvd. Beachwood 44122;X-APPLE-RADIUS=500;X-TITLE=25225 Fairmount Blvd.:geo:-81.4987257,41.4871658
END:VEVENT
END:VCALENDAR