BEGIN:VCALENDAR
VERSION:2.0
PRODID:-//Northeast Ohio Parent - ECPv5.16.4//NONSGML v1.0//EN
CALSCALE:GREGORIAN
METHOD:PUBLISH
X-WR-CALNAME:Northeast Ohio Parent
X-ORIGINAL-URL:https://www.northeastohioparent.com
X-WR-CALDESC:Events for Northeast Ohio Parent
BEGIN:VTIMEZONE
TZID:America/New_York
BEGIN:DAYLIGHT
TZOFFSETFROM:-0500
TZOFFSETTO:-0400
TZNAME:EDT
DTSTART:20250309T070000
END:DAYLIGHT
BEGIN:STANDARD
TZOFFSETFROM:-0400
TZOFFSETTO:-0500
TZNAME:EST
DTSTART:20251102T060000
END:STANDARD
END:VTIMEZONE
BEGIN:VEVENT
DTSTART;TZID=America/New_York:20251005T140000
DTEND;TZID=America/New_York:20251005T150000
DTSTAMP:20260425T232004
CREATED:20250907T235810Z
LAST-MODIFIED:20250907T235821Z
UID:159760-1759672800-1759676400@www.northeastohioparent.com
SUMMARY:Beachwood Arts Council Presents Sunday Sounds Von James Concert
DESCRIPTION:Von James\, a popular powerhouse vocalist and recording artist\, with roots in opera\, jazz\, and gospel\, will entertain the audience with her dynamic voice and stage presence. She has performed at the Rock and Roll Hall of Fame and the Multi Music Jazz Festival at Cain Park.\nFree and open to the public.\nAt the Beachwood Community Center.\nBeachwood Arts Council’s Sunday Sounds Series is supported in part by the residents of Cuyahoga County through a public grant from Cuyahoga Arts & Culture. Beachwood Arts Council has received $27\,043 from Cuyahoga Arts & Culture since 2018.\nBeachwood Arts Council is made possible in part by an investment of public funds from the Ohio Arts Council (OAC). The OAC is a state agency that funds and supports quality arts experiences to strengthen Ohio communities culturally\, educationally\, and economicall
URL:https://www.northeastohioparent.com/event/beachwood-arts-council-presents-sunday-sounds-von-james-concert/
LOCATION:Beachwood Community Center\, 25225 Fairmount Blvd.\, Beachwood\, 44122
ATTACH;FMTTYPE=image/jpeg:https://www.northeastohioparent.com/wp-content/uploads/2025/08/Copy-of-Untitled-Design33.jpg
ORGANIZER;CN="Beachwood%20Arts%20Council":MAILTO:info@beachwoodartscouncil.org
GEO:41.4871658;-81.4987257
X-APPLE-STRUCTURED-LOCATION;VALUE=URI;X-ADDRESS=Beachwood Community Center 25225 Fairmount Blvd. Beachwood 44122;X-APPLE-RADIUS=500;X-TITLE=25225 Fairmount Blvd.:geo:-81.4987257,41.4871658
END:VEVENT
END:VCALENDAR