BEGIN:VCALENDAR
VERSION:2.0
PRODID:-//Northeast Ohio Parent - ECPv5.16.4//NONSGML v1.0//EN
CALSCALE:GREGORIAN
METHOD:PUBLISH
X-WR-CALNAME:Northeast Ohio Parent
X-ORIGINAL-URL:https://www.northeastohioparent.com
X-WR-CALDESC:Events for Northeast Ohio Parent
BEGIN:VTIMEZONE
TZID:America/New_York
BEGIN:DAYLIGHT
TZOFFSETFROM:-0500
TZOFFSETTO:-0400
TZNAME:EDT
DTSTART:20260308T070000
END:DAYLIGHT
BEGIN:STANDARD
TZOFFSETFROM:-0400
TZOFFSETTO:-0500
TZNAME:EST
DTSTART:20261101T060000
END:STANDARD
END:VTIMEZONE
BEGIN:VEVENT
DTSTART;VALUE=DATE:20260515
DTEND;VALUE=DATE:20260516
DTSTAMP:20260425T191608
CREATED:20260423T202737Z
LAST-MODIFIED:20260423T202737Z
UID:192229-1778803200-1778889599@www.northeastohioparent.com
SUMMARY:Beats and Bounces
DESCRIPTION:Toddlers 12-24 months can jump\, dance\, sing and move. 9:30-10 a.m. 
URL:https://www.northeastohioparent.com/event/beats-and-bounces/
LOCATION:Stow Munroe Falls Public Library\, 3512 Darrow Road\, Stow
CATEGORIES:Baby/Kid 'n Me Event,Dancing,Library,Music
ATTACH;FMTTYPE=image/jpeg:https://www.northeastohioparent.com/wp-content/uploads/2026/04/toddlerdance.jpeg
GEO:41.160856;-81.44104
X-APPLE-STRUCTURED-LOCATION;VALUE=URI;X-ADDRESS=Stow Munroe Falls Public Library 3512 Darrow Road Stow;X-APPLE-RADIUS=500;X-TITLE=3512 Darrow Road:geo:-81.44104,41.160856
END:VEVENT
END:VCALENDAR