BEGIN:VCALENDAR
VERSION:2.0
PRODID:-//Northeast Ohio Parent - ECPv5.16.4//NONSGML v1.0//EN
CALSCALE:GREGORIAN
METHOD:PUBLISH
X-WR-CALNAME:Northeast Ohio Parent
X-ORIGINAL-URL:https://www.northeastohioparent.com
X-WR-CALDESC:Events for Northeast Ohio Parent
BEGIN:VTIMEZONE
TZID:America/New_York
BEGIN:DAYLIGHT
TZOFFSETFROM:-0500
TZOFFSETTO:-0400
TZNAME:EDT
DTSTART:20250309T070000
END:DAYLIGHT
BEGIN:STANDARD
TZOFFSETFROM:-0400
TZOFFSETTO:-0500
TZNAME:EST
DTSTART:20251102T060000
END:STANDARD
END:VTIMEZONE
BEGIN:VEVENT
DTSTART;TZID=America/New_York:20251220T090000
DTEND;TZID=America/New_York:20251220T110000
DTSTAMP:20260424T002013
CREATED:20251205T190718Z
LAST-MODIFIED:20251205T190718Z
UID:169900-1766221200-1766228400@www.northeastohioparent.com
SUMMARY:Breakfast with Santa!
DESCRIPTION:Join your locally owned Lee Road McDonald’s for Breakfast with Santa! Saturday\, December 20 from 9am-11am.
URL:https://www.northeastohioparent.com/event/breakfast-with-santa-2/
LOCATION:Lee Road McDonald’s\, 4159 Lee Road\, Cleveland\, 44128
ATTACH;FMTTYPE=image/jpeg:https://www.northeastohioparent.com/wp-content/uploads/2025/12/2ACC95FC-D5BF-426D-9115-FC86DE86ECC2.jpg
END:VEVENT
END:VCALENDAR