BEGIN:VCALENDAR
VERSION:2.0
PRODID:-//Northeast Ohio Parent - ECPv5.16.4//NONSGML v1.0//EN
CALSCALE:GREGORIAN
METHOD:PUBLISH
X-WR-CALNAME:Northeast Ohio Parent
X-ORIGINAL-URL:https://www.northeastohioparent.com
X-WR-CALDESC:Events for Northeast Ohio Parent
BEGIN:VTIMEZONE
TZID:America/New_York
BEGIN:DAYLIGHT
TZOFFSETFROM:-0500
TZOFFSETTO:-0400
TZNAME:EDT
DTSTART:20260308T070000
END:DAYLIGHT
BEGIN:STANDARD
TZOFFSETFROM:-0400
TZOFFSETTO:-0500
TZNAME:EST
DTSTART:20261101T060000
END:STANDARD
END:VTIMEZONE
BEGIN:VEVENT
DTSTART;VALUE=DATE:20260606
DTEND;VALUE=DATE:20260607
DTSTAMP:20260422T210239
CREATED:20260420T171052Z
LAST-MODIFIED:20260420T171052Z
UID:191970-1780704000-1780790399@www.northeastohioparent.com
SUMMARY:Chardon Square Kids Fest & Flea Market
DESCRIPTION:Kid friendly games and activities and a great opportunity for kids to get rid of unused toys\, games and clothes. 10 a.m.-2 p.m. 
URL:https://www.northeastohioparent.com/event/chardon-square-kids-fest-flea-market/
LOCATION:Chardon Square\, 111 E Park St\, Chardon\, OH 44024\, Chardon\, 44024
CATEGORIES:Festivals,Sale
END:VEVENT
END:VCALENDAR