BEGIN:VCALENDAR
VERSION:2.0
PRODID:-//Northeast Ohio Parent - ECPv5.16.4//NONSGML v1.0//EN
CALSCALE:GREGORIAN
METHOD:PUBLISH
X-WR-CALNAME:Northeast Ohio Parent
X-ORIGINAL-URL:https://www.northeastohioparent.com
X-WR-CALDESC:Events for Northeast Ohio Parent
BEGIN:VTIMEZONE
TZID:America/New_York
BEGIN:DAYLIGHT
TZOFFSETFROM:-0500
TZOFFSETTO:-0400
TZNAME:EDT
DTSTART:20250309T070000
END:DAYLIGHT
BEGIN:STANDARD
TZOFFSETFROM:-0400
TZOFFSETTO:-0500
TZNAME:EST
DTSTART:20251102T060000
END:STANDARD
END:VTIMEZONE
BEGIN:VEVENT
DTSTART;VALUE=DATE:20251112
DTEND;VALUE=DATE:20251113
DTSTAMP:20260425T111945
CREATED:20251009T163252Z
LAST-MODIFIED:20251009T163642Z
UID:162792-1762905600-1762991999@www.northeastohioparent.com
SUMMARY:Charlie Brown Thanksgiving Lunch
DESCRIPTION:Watch a holiday classic while enjoying lunch. Registration begins on November 9th. Only children need to be registered and only children will receive lunch. This program is designed for children ages 12 and under. If registration is full\, please call the children’s department at 440 255 8811 x220. 12-1 p.m. 
URL:https://www.northeastohioparent.com/event/charlie-brown-thanksgiving-lunch/
LOCATION:Main Branch Library – Mentor\, 8215 Mentor Ave.\, Mentor\, OH\, United States
CATEGORIES:food,Library,Thanksgiving
ATTACH;FMTTYPE=image/jpeg:https://www.northeastohioparent.com/wp-content/uploads/2024/10/Charlie-Brown-Thanksgiving.jpg
END:VEVENT
END:VCALENDAR