BEGIN:VCALENDAR
VERSION:2.0
PRODID:-//Northeast Ohio Parent - ECPv5.16.4//NONSGML v1.0//EN
CALSCALE:GREGORIAN
METHOD:PUBLISH
X-WR-CALNAME:Northeast Ohio Parent
X-ORIGINAL-URL:https://www.northeastohioparent.com
X-WR-CALDESC:Events for Northeast Ohio Parent
BEGIN:VTIMEZONE
TZID:America/New_York
BEGIN:DAYLIGHT
TZOFFSETFROM:-0500
TZOFFSETTO:-0400
TZNAME:EDT
DTSTART:20250309T070000
END:DAYLIGHT
BEGIN:STANDARD
TZOFFSETFROM:-0400
TZOFFSETTO:-0500
TZNAME:EST
DTSTART:20251102T060000
END:STANDARD
END:VTIMEZONE
BEGIN:VEVENT
DTSTART;VALUE=DATE:20251101
DTEND;VALUE=DATE:20251102
DTSTAMP:20260425T071458
CREATED:20251009T175811Z
LAST-MODIFIED:20251009T175811Z
UID:162844-1761955200-1762041599@www.northeastohioparent.com
SUMMARY:Children’s Saturday Studio
DESCRIPTION:Young artists will engage with the museum’s collection while building idea-generation and critical-thinking skills. Ages 5-10. 10-11:30 a.m. 
URL:https://www.northeastohioparent.com/event/childrens-saturday-studio-2/
LOCATION:The Cleveland Museum of Art\, 11150 East Blvd. \, Cleveland
CATEGORIES:Art,Museums
GEO:41.5090158;-81.6119252
X-APPLE-STRUCTURED-LOCATION;VALUE=URI;X-ADDRESS=The Cleveland Museum of Art 11150 East Blvd.  Cleveland;X-APPLE-RADIUS=500;X-TITLE=11150 East Blvd.:geo:-81.6119252,41.5090158
END:VEVENT
END:VCALENDAR