BEGIN:VCALENDAR
VERSION:2.0
PRODID:-//Northeast Ohio Parent - ECPv5.16.4//NONSGML v1.0//EN
CALSCALE:GREGORIAN
METHOD:PUBLISH
X-WR-CALNAME:Northeast Ohio Parent
X-ORIGINAL-URL:https://www.northeastohioparent.com
X-WR-CALDESC:Events for Northeast Ohio Parent
BEGIN:VTIMEZONE
TZID:America/New_York
BEGIN:DAYLIGHT
TZOFFSETFROM:-0500
TZOFFSETTO:-0400
TZNAME:EDT
DTSTART:20250309T070000
END:DAYLIGHT
BEGIN:STANDARD
TZOFFSETFROM:-0400
TZOFFSETTO:-0500
TZNAME:EST
DTSTART:20251102T060000
END:STANDARD
END:VTIMEZONE
BEGIN:VEVENT
DTSTART;VALUE=DATE:20251120
DTEND;VALUE=DATE:20251121
DTSTAMP:20260424T225335
CREATED:20251009T165000Z
LAST-MODIFIED:20251009T165000Z
UID:162802-1763596800-1763683199@www.northeastohioparent.com
SUMMARY:Culinary Creators: Friendsgiving
DESCRIPTION:Prepare a mini feast to share with fellow chefs and family members. Ages 8-16. 6-8 p.m. 
URL:https://www.northeastohioparent.com/event/culinary-creators-friendsgiving/
LOCATION:Cleveland Heights University Heights LIbrary\, Lee Road Branch 2345 Lee Road\, Cleveland Heights
CATEGORIES:food,Library,Thanksgiving
GEO:41.4957521;-81.5646479
X-APPLE-STRUCTURED-LOCATION;VALUE=URI;X-ADDRESS=Cleveland Heights University Heights LIbrary Lee Road Branch 2345 Lee Road Cleveland Heights;X-APPLE-RADIUS=500;X-TITLE=Lee Road Branch 2345 Lee Road:geo:-81.5646479,41.4957521
END:VEVENT
END:VCALENDAR