BEGIN:VCALENDAR
VERSION:2.0
PRODID:-//Northeast Ohio Parent - ECPv5.16.4//NONSGML v1.0//EN
CALSCALE:GREGORIAN
METHOD:PUBLISH
X-WR-CALNAME:Northeast Ohio Parent
X-ORIGINAL-URL:https://www.northeastohioparent.com
X-WR-CALDESC:Events for Northeast Ohio Parent
BEGIN:VTIMEZONE
TZID:America/New_York
BEGIN:DAYLIGHT
TZOFFSETFROM:-0500
TZOFFSETTO:-0400
TZNAME:EDT
DTSTART:20260308T070000
END:DAYLIGHT
BEGIN:STANDARD
TZOFFSETFROM:-0400
TZOFFSETTO:-0500
TZNAME:EST
DTSTART:20261101T060000
END:STANDARD
END:VTIMEZONE
BEGIN:VEVENT
DTSTART;VALUE=DATE:20260811
DTEND;VALUE=DATE:20260817
DTSTAMP:20260423T003114
CREATED:20260420T161930Z
LAST-MODIFIED:20260420T161930Z
UID:191946-1786406400-1786924799@www.northeastohioparent.com
SUMMARY:Cuyahoga County Fair –“TGIFT” (Thank Goodness It’s Fair Time!)
DESCRIPTION:Driving in from North\, South\, East or West – Cuyahoga County Fair has a treasure chest of the county’s best. \n\n\nMidway Rides & Animals Too\, For Young & Old\, There’s So Much To Do!\n\n \n\n\nFair Details still being finalized – please continue to check back at cuyfair.com
URL:https://www.northeastohioparent.com/event/cuyahoga-county-fair-tgift-thank-goodness-its-fair-time/
LOCATION:Cuyahoga County Fairgrounds\, 19201 Bagley Dr\, Middleburg Heights\, OH\, 44130\, United States
CATEGORIES:Fairs
ATTACH;FMTTYPE=image/jpeg:https://www.northeastohioparent.com/wp-content/uploads/2026/04/Screenshot-2026-04-20-115411.jpg
END:VEVENT
END:VCALENDAR