BEGIN:VCALENDAR
VERSION:2.0
PRODID:-//Northeast Ohio Parent - ECPv5.16.4//NONSGML v1.0//EN
CALSCALE:GREGORIAN
METHOD:PUBLISH
X-WR-CALNAME:Northeast Ohio Parent
X-ORIGINAL-URL:https://www.northeastohioparent.com
X-WR-CALDESC:Events for Northeast Ohio Parent
BEGIN:VTIMEZONE
TZID:America/New_York
BEGIN:DAYLIGHT
TZOFFSETFROM:-0500
TZOFFSETTO:-0400
TZNAME:EDT
DTSTART:20260308T070000
END:DAYLIGHT
BEGIN:STANDARD
TZOFFSETFROM:-0400
TZOFFSETTO:-0500
TZNAME:EST
DTSTART:20261101T060000
END:STANDARD
END:VTIMEZONE
BEGIN:VEVENT
DTSTART;TZID=America/New_York:20260426T150000
DTEND;TZID=America/New_York:20260426T180000
DTSTAMP:20260425T071104
CREATED:20260420T160917Z
LAST-MODIFIED:20260420T160917Z
UID:189694-1777215600-1777226400@www.northeastohioparent.com
SUMMARY:DADS STAND UP CLE COMMUNITY KICKOFF
DESCRIPTION:We’re launching a movement and bringing together dads from across Northeast Ohio to connect\, unwind\, and create some community.\n\n\nJoin us for the launch of Cleveland’s Dads for All chapter – Dads Stand Up at Corner Alley in Downtown Cleveland.\n\n \n\n\nMeet other fathers who care about their kids\, their community\, and about building something. Come strike up some new friendships. Whether you’re a new dad\, seasoned pro\, or somewhere in between\, you’re invited to grab a drink\, meet some good people\, and help shape what this group becomes. *No Gutter Dads Allowed.*\n\n\n​Dads matter. We know when dads show up together\, powerful things can happen. So\, show up\, bring a friend\, and be a part of something big in Cleveland.\n\n\nThis is just the beginning. Be part of what’s to come. See you there!\n\n\nLearn more at dadsforall.com or email us at dadsstandupcle@protonmail.com.
URL:https://www.northeastohioparent.com/event/dads-stand-up-cle-community-kickoff/
LOCATION:The Corner Alley\, 402 Euclid Ave\, Cleveland\, 44114
ORGANIZER;CN="Dads%20Stand%20Up%20CLE":MAILTO:dadsstandupcle@protonmail.com
END:VEVENT
END:VCALENDAR