BEGIN:VCALENDAR
VERSION:2.0
PRODID:-//Northeast Ohio Parent - ECPv5.16.4//NONSGML v1.0//EN
CALSCALE:GREGORIAN
METHOD:PUBLISH
X-WR-CALNAME:Northeast Ohio Parent
X-ORIGINAL-URL:https://www.northeastohioparent.com
X-WR-CALDESC:Events for Northeast Ohio Parent
BEGIN:VTIMEZONE
TZID:America/New_York
BEGIN:DAYLIGHT
TZOFFSETFROM:-0500
TZOFFSETTO:-0400
TZNAME:EDT
DTSTART:20250309T070000
END:DAYLIGHT
BEGIN:STANDARD
TZOFFSETFROM:-0400
TZOFFSETTO:-0500
TZNAME:EST
DTSTART:20251102T060000
END:STANDARD
END:VTIMEZONE
BEGIN:VEVENT
DTSTART;TZID=America/New_York:20251018T100000
DTEND;TZID=America/New_York:20251018T170000
DTSTAMP:20260424T120301
CREATED:20251009T131419Z
LAST-MODIFIED:20251009T131419Z
UID:162099-1760781600-1760806800@www.northeastohioparent.com
SUMMARY:Diwali Mela near me- North East Ohio Bengali Association
DESCRIPTION:Cleveland Diwali mela\n\n\nA big event ever in Cleveland\, Ohio. Diwali mela will be organized by North east Ohio Bengali Association in Ohio.\nWe are thrilled to invite all Indians to participate in NEOBA’s Diwali Mela\, a vibrant celebration of lights and culture! Here are the details:\n\n \n\n\nCalling Cultural Program Participants: Calling all performers from the Indian community in Cleveland\, Akron\, and Canton areas! There is no participation fee\, and entry to the event is completely free. Showcase your talents and join us for an unforgettable celebration. Use the form below to register:\n\n\n\n\n\nCalling Vendors: We’re offering attractive group booking rates for stalls! Refer to our stall booking form for more details and secure your spot early for this exciting event. Use the form below to register:\n\n\nhttps://form.jotform.com/252154900862152\nPlease call/text 440 781 5456 for more information.
URL:https://www.northeastohioparent.com/event/diwali-mela-near-me-north-east-ohio-bengali-association/
LOCATION:Solon Middle School\, 6835 SOM Center Road\, Solon\, 44139
ATTACH;FMTTYPE=image/jpeg:https://www.northeastohioparent.com/wp-content/uploads/2025/09/Screenshot-2025-09-14-0052291.jpg
ORGANIZER;CN="North%20East%20OhioBengaliAssociation":MAILTO:doyeleducation@gmail.com
END:VEVENT
END:VCALENDAR