BEGIN:VCALENDAR
VERSION:2.0
PRODID:-//Northeast Ohio Parent - ECPv5.16.4//NONSGML v1.0//EN
CALSCALE:GREGORIAN
METHOD:PUBLISH
X-WR-CALNAME:Northeast Ohio Parent
X-ORIGINAL-URL:https://www.northeastohioparent.com
X-WR-CALDESC:Events for Northeast Ohio Parent
BEGIN:VTIMEZONE
TZID:America/New_York
BEGIN:DAYLIGHT
TZOFFSETFROM:-0500
TZOFFSETTO:-0400
TZNAME:EDT
DTSTART:20250309T070000
END:DAYLIGHT
BEGIN:STANDARD
TZOFFSETFROM:-0400
TZOFFSETTO:-0500
TZNAME:EST
DTSTART:20251102T060000
END:STANDARD
END:VTIMEZONE
BEGIN:VEVENT
DTSTART;VALUE=DATE:20250920
DTEND;VALUE=DATE:20250921
DTSTAMP:20260425T120242
CREATED:20250831T225729Z
LAST-MODIFIED:20250831T225729Z
UID:159962-1758326400-1758412799@www.northeastohioparent.com
SUMMARY:Elyria Apple Festival
DESCRIPTION:The purpose of the Apple Festival is to promote Elyria with celebration. Three days of family fun\, food\, entertainment\, corn hole\, children’s activities\, and more. The profits are saved for future years’ programs and invested to improve the downtown square at Ely Park. Friday 11 a.m. -8 p.m.\, Saturday 11 a.m. -8 p.m.\, Sunday 10 a.m. -6 p.m.\n\n\n 
URL:https://www.northeastohioparent.com/event/elyria-apple-festival-2/2025-09-20/
LOCATION:Ely Square\, 131 Court St.\, Elyria\, OH\, United States
CATEGORIES:Fall Fun,Festivals,food
ATTACH;FMTTYPE=image/webp:https://www.northeastohioparent.com/wp-content/uploads/2025/08/elyria-apple-festival.webp
GEO:41.36677;-82.108246
X-APPLE-STRUCTURED-LOCATION;VALUE=URI;X-ADDRESS=Ely Square 131 Court St. Elyria OH United States;X-APPLE-RADIUS=500;X-TITLE=131 Court St.:geo:-82.108246,41.36677
END:VEVENT
END:VCALENDAR