BEGIN:VCALENDAR
VERSION:2.0
PRODID:-//Northeast Ohio Parent - ECPv5.16.4//NONSGML v1.0//EN
CALSCALE:GREGORIAN
METHOD:PUBLISH
X-WR-CALNAME:Northeast Ohio Parent
X-ORIGINAL-URL:https://www.northeastohioparent.com
X-WR-CALDESC:Events for Northeast Ohio Parent
BEGIN:VTIMEZONE
TZID:America/New_York
BEGIN:DAYLIGHT
TZOFFSETFROM:-0500
TZOFFSETTO:-0400
TZNAME:EDT
DTSTART:20250309T070000
END:DAYLIGHT
BEGIN:STANDARD
TZOFFSETFROM:-0400
TZOFFSETTO:-0500
TZNAME:EST
DTSTART:20251102T060000
END:STANDARD
END:VTIMEZONE
BEGIN:VEVENT
DTSTART;VALUE=DATE:20251011
DTEND;VALUE=DATE:20251012
DTSTAMP:20260425T215135
CREATED:20250901T162348Z
LAST-MODIFIED:20250901T162348Z
UID:160054-1760140800-1760227199@www.northeastohioparent.com
SUMMARY:Enchanted Forest
DESCRIPTION:The Wilderness Center will be transformed into The Enchanted Forest. Meet costumed volunteers such as black bear\, dirt\, luna moth\, and slug along the pumpkin-lit trails. Afterwards\, stop by TWC’s Observatory and view the night sky through powerful telescopes. $12 / Person\, age 2 and under are free. Friday 6:30–8:30 p.m. & Saturday 4–8:30 p.m.
URL:https://www.northeastohioparent.com/event/enchanted-forest/2025-10-11/
LOCATION:The Wilderness Center\, 9877 Alabama Ave\, Wilmot\, OH\, 44689\, United States
CATEGORIES:Fall Fun,Festivals
ATTACH;FMTTYPE=image/jpeg:https://www.northeastohioparent.com/wp-content/uploads/2025/09/wilderness-center.jpg
END:VEVENT
END:VCALENDAR