BEGIN:VCALENDAR
VERSION:2.0
PRODID:-//Northeast Ohio Parent - ECPv5.16.4//NONSGML v1.0//EN
CALSCALE:GREGORIAN
METHOD:PUBLISH
X-WR-CALNAME:Northeast Ohio Parent
X-ORIGINAL-URL:https://www.northeastohioparent.com
X-WR-CALDESC:Events for Northeast Ohio Parent
BEGIN:VTIMEZONE
TZID:America/New_York
BEGIN:DAYLIGHT
TZOFFSETFROM:-0500
TZOFFSETTO:-0400
TZNAME:EDT
DTSTART:20250309T070000
END:DAYLIGHT
BEGIN:STANDARD
TZOFFSETFROM:-0400
TZOFFSETTO:-0500
TZNAME:EST
DTSTART:20251102T060000
END:STANDARD
END:VTIMEZONE
BEGIN:VEVENT
DTSTART;VALUE=DATE:20251226
DTEND;VALUE=DATE:20251229
DTSTAMP:20260419T090420
CREATED:20251111T173117Z
LAST-MODIFIED:20251125T175149Z
UID:168836-1766707200-1766966399@www.northeastohioparent.com
SUMMARY:Event of the Week: Lake Metroparks Farmpark Country Lights Drive-thru
DESCRIPTION:Seasonal splendor and festive fun are just around the corner at Lake Metroparks Farmpark with the return of the Country Lights Drive-thru! Families can enjoy a sparkling winter wonderland from the comfort of their own vehicles\, taking in the magic of the season without stepping outside or facing the chilly weather.\n\n \n\n\nOn select evenings this holiday season\, Farmpark’s winding roadways are transformed with twinkling lights\, dazzling decorations and immersive displays. Guests will encounter a mix of beloved holiday classics and exciting new scenes along the route\, creating a festive experience for all ages.\n\n\n“Every corner of Country Lights has a little magic waiting to be discovered\,” says Andy McGovern\, event manager at Lake Metroparks Farmpark. “It’s full of bright colors\, cheerful scenes and moments that make the season feel even more joyful.”\n\n\nThe Country Lights Drive-thru runs December 5–7\, 12–14\, 19–21 & 26–28 from 6-8:30 p.m. Presented exclusively by Ken Ganley Subaru Wickliffe and Ken Ganley Chrysler Dodge Jeep Ram Mentor.\n\n\n\n\n\nTickets ($27.50 per carload) must be purchased in advance and are only available online at showclix.com/tickets/country-lights-drive-thru-2025; terms and conditions apply. A limit of three carload tickets per household or membership applies.\n\n\n 
URL:https://www.northeastohioparent.com/event/event-of-the-week-lake-metroparks-farmpark-country-lights-drive-thru/2025-12-26/
LOCATION:Lake Metroparks Farmpark\, 8800 Euclid Chardon Road\, Kirtland
CATEGORIES:Holiday
ATTACH;FMTTYPE=image/jpeg:https://www.northeastohioparent.com/wp-content/uploads/2025/11/Country-Lights-1-Andy-McGovern.jpg
GEO:41.5811077;-81.3314222
X-APPLE-STRUCTURED-LOCATION;VALUE=URI;X-ADDRESS=Lake Metroparks Farmpark 8800 Euclid Chardon Road Kirtland;X-APPLE-RADIUS=500;X-TITLE=8800 Euclid Chardon Road:geo:-81.3314222,41.5811077
END:VEVENT
END:VCALENDAR