BEGIN:VCALENDAR
VERSION:2.0
PRODID:-//Northeast Ohio Parent - ECPv5.16.4//NONSGML v1.0//EN
CALSCALE:GREGORIAN
METHOD:PUBLISH
X-WR-CALNAME:Northeast Ohio Parent
X-ORIGINAL-URL:https://www.northeastohioparent.com
X-WR-CALDESC:Events for Northeast Ohio Parent
BEGIN:VTIMEZONE
TZID:America/New_York
BEGIN:DAYLIGHT
TZOFFSETFROM:-0500
TZOFFSETTO:-0400
TZNAME:EDT
DTSTART:20250309T070000
END:DAYLIGHT
BEGIN:STANDARD
TZOFFSETFROM:-0400
TZOFFSETTO:-0500
TZNAME:EST
DTSTART:20251102T060000
END:STANDARD
END:VTIMEZONE
BEGIN:VEVENT
DTSTART;VALUE=DATE:20251114
DTEND;VALUE=DATE:20251116
DTSTAMP:20260425T002151
CREATED:20251107T183426Z
LAST-MODIFIED:20251110T034525Z
UID:165074-1763078400-1763251199@www.northeastohioparent.com
SUMMARY:Event of the Week: The Cleveland Charge
DESCRIPTION:The Cleveland Charge are back and better than ever with new jerseys\, new merch\, and even a new court! But one thing that doesn’t change is the amazing experience at Public Hall for Charge basketball! Don’t miss your chance of great giveaways and fun theme nights\, plus all fans can enjoy post-game autographs and free throws on the court after every game!\n\n   \n\nThis weekend the Charge takes on the Wisconsin Herd on Friday and Saturday. Join us Friday for our Home Opener presented by Rocket at 7:00PM and the first 2\,000 fans will receive a mini hoop schedule. Then on Saturday at 7:30PM\, the first 2\,000 fans will receive a 15th Season Trading Card Pack courtesy of Bomber Breaks. The Charge start the season and we need you there! Tickets on sale now at ClevelandCharge.com.
URL:https://www.northeastohioparent.com/event/event-of-the-week-the-cleveland-charge/
LOCATION:Public Hall\, 500 Lakeside Ave\, Cleveland\, OH\, United States
ATTACH;FMTTYPE=image/jpeg:https://www.northeastohioparent.com/wp-content/uploads/2025/11/251028-CHARGE-COURT-REVEAL-DJ-42.jpg
END:VEVENT
END:VCALENDAR