BEGIN:VCALENDAR
VERSION:2.0
PRODID:-//Northeast Ohio Parent - ECPv5.16.4//NONSGML v1.0//EN
CALSCALE:GREGORIAN
METHOD:PUBLISH
X-WR-CALNAME:Northeast Ohio Parent
X-ORIGINAL-URL:https://www.northeastohioparent.com
X-WR-CALDESC:Events for Northeast Ohio Parent
BEGIN:VTIMEZONE
TZID:America/New_York
BEGIN:DAYLIGHT
TZOFFSETFROM:-0500
TZOFFSETTO:-0400
TZNAME:EDT
DTSTART:20250309T070000
END:DAYLIGHT
BEGIN:STANDARD
TZOFFSETFROM:-0400
TZOFFSETTO:-0500
TZNAME:EST
DTSTART:20251102T060000
END:STANDARD
END:VTIMEZONE
BEGIN:VEVENT
DTSTART;VALUE=DATE:20251004
DTEND;VALUE=DATE:20251005
DTSTAMP:20260426T002727
CREATED:20250831T230741Z
LAST-MODIFIED:20250831T230741Z
UID:159973-1759536000-1759622399@www.northeastohioparent.com
SUMMARY:Fall Festival
DESCRIPTION:U-pick apples\, live music\, farm animals\, pony rides and more. 8 a.m.-5 p.m.
URL:https://www.northeastohioparent.com/event/fall-festival-3/2025-10-04/
LOCATION:Bauman Orchards\, 161 Rittman Avenue\, Rittman
CATEGORIES:Fall Fun,Festivals
GEO:40.9710088;-81.7985394
X-APPLE-STRUCTURED-LOCATION;VALUE=URI;X-ADDRESS=Bauman Orchards 161 Rittman Avenue Rittman;X-APPLE-RADIUS=500;X-TITLE=161 Rittman Avenue:geo:-81.7985394,40.9710088
END:VEVENT
END:VCALENDAR