BEGIN:VCALENDAR
VERSION:2.0
PRODID:-//Northeast Ohio Parent - ECPv5.16.4//NONSGML v1.0//EN
CALSCALE:GREGORIAN
METHOD:PUBLISH
X-WR-CALNAME:Northeast Ohio Parent
X-ORIGINAL-URL:https://www.northeastohioparent.com
X-WR-CALDESC:Events for Northeast Ohio Parent
BEGIN:VTIMEZONE
TZID:America/New_York
BEGIN:DAYLIGHT
TZOFFSETFROM:-0500
TZOFFSETTO:-0400
TZNAME:EDT
DTSTART:20250309T070000
END:DAYLIGHT
BEGIN:STANDARD
TZOFFSETFROM:-0400
TZOFFSETTO:-0500
TZNAME:EST
DTSTART:20251102T060000
END:STANDARD
END:VTIMEZONE
BEGIN:VEVENT
DTSTART;VALUE=DATE:20250604
DTEND;VALUE=DATE:20250605
DTSTAMP:20260423T040738
CREATED:20250323T175614Z
LAST-MODIFIED:20250323T175614Z
UID:152785-1748995200-1749081599@www.northeastohioparent.com
SUMMARY:Family Circle Time
DESCRIPTION:Stories\, songs and fingerplays. 11 a.m. Through 7/23.
URL:https://www.northeastohioparent.com/event/family-circle-time/2025-06-04/
LOCATION:South Branch Library\, 1215 Middle Ave.\, Elyria\, United States
GEO:41.3544532;-82.1086115
X-APPLE-STRUCTURED-LOCATION;VALUE=URI;X-ADDRESS=South Branch Library 1215 Middle Ave. Elyria United States;X-APPLE-RADIUS=500;X-TITLE=1215 Middle Ave.:geo:-82.1086115,41.3544532
END:VEVENT
END:VCALENDAR