BEGIN:VCALENDAR
VERSION:2.0
PRODID:-//Northeast Ohio Parent - ECPv5.16.4//NONSGML v1.0//EN
CALSCALE:GREGORIAN
METHOD:PUBLISH
X-WR-CALNAME:Northeast Ohio Parent
X-ORIGINAL-URL:https://www.northeastohioparent.com
X-WR-CALDESC:Events for Northeast Ohio Parent
BEGIN:VTIMEZONE
TZID:America/New_York
BEGIN:DAYLIGHT
TZOFFSETFROM:-0500
TZOFFSETTO:-0400
TZNAME:EDT
DTSTART:20260308T070000
END:DAYLIGHT
BEGIN:STANDARD
TZOFFSETFROM:-0400
TZOFFSETTO:-0500
TZNAME:EST
DTSTART:20261101T060000
END:STANDARD
END:VTIMEZONE
BEGIN:VEVENT
DTSTART;VALUE=DATE:20260104
DTEND;VALUE=DATE:20260105
DTSTAMP:20260423T191030
CREATED:20251114T215908Z
LAST-MODIFIED:20251114T215908Z
UID:167661-1767484800-1767571199@www.northeastohioparent.com
SUMMARY:Family FUNday
DESCRIPTION:Family-friendly games\, movement-based activities\, art and more. First Sunday of each month. 1-4 p.m.
URL:https://www.northeastohioparent.com/event/family-funday/2026-01-04/
LOCATION:CMA Community Arts Center\, 2937 W 25th St.\, Cleveland\, 44113
CATEGORIES:Art,Game
END:VEVENT
END:VCALENDAR