BEGIN:VCALENDAR
VERSION:2.0
PRODID:-//Northeast Ohio Parent - ECPv5.16.4//NONSGML v1.0//EN
CALSCALE:GREGORIAN
METHOD:PUBLISH
X-WR-CALNAME:Northeast Ohio Parent
X-ORIGINAL-URL:https://www.northeastohioparent.com
X-WR-CALDESC:Events for Northeast Ohio Parent
BEGIN:VTIMEZONE
TZID:America/New_York
BEGIN:DAYLIGHT
TZOFFSETFROM:-0500
TZOFFSETTO:-0400
TZNAME:EDT
DTSTART:20250309T070000
END:DAYLIGHT
BEGIN:STANDARD
TZOFFSETFROM:-0400
TZOFFSETTO:-0500
TZNAME:EST
DTSTART:20251102T060000
END:STANDARD
END:VTIMEZONE
BEGIN:VEVENT
DTSTART;VALUE=DATE:20251102
DTEND;VALUE=DATE:20251103
DTSTAMP:20260425T203235
CREATED:20250916T131106Z
LAST-MODIFIED:20250916T131106Z
UID:160998-1762041600-1762127999@www.northeastohioparent.com
SUMMARY:First People's Day
DESCRIPTION:Delve into the unique history of Northeast Ohio nature cultures with talks\, hikes and demonstrations. 11 a.m. -4 p.m. 
URL:https://www.northeastohioparent.com/event/first-peoples-day/
LOCATION:Rocky River Nature Center\, 24000 Valley Parkway\, North Olmsted\, 44070
CATEGORIES:Culture,educational,Outdoors
END:VEVENT
END:VCALENDAR