BEGIN:VCALENDAR
VERSION:2.0
PRODID:-//Northeast Ohio Parent - ECPv5.16.4//NONSGML v1.0//EN
CALSCALE:GREGORIAN
METHOD:PUBLISH
X-WR-CALNAME:Northeast Ohio Parent
X-ORIGINAL-URL:https://www.northeastohioparent.com
X-WR-CALDESC:Events for Northeast Ohio Parent
BEGIN:VTIMEZONE
TZID:America/New_York
BEGIN:DAYLIGHT
TZOFFSETFROM:-0500
TZOFFSETTO:-0400
TZNAME:EDT
DTSTART:20250309T070000
END:DAYLIGHT
BEGIN:STANDARD
TZOFFSETFROM:-0400
TZOFFSETTO:-0500
TZNAME:EST
DTSTART:20251102T060000
END:STANDARD
END:VTIMEZONE
BEGIN:VEVENT
DTSTART;VALUE=DATE:20251212
DTEND;VALUE=DATE:20251213
DTSTAMP:20260424T070302
CREATED:20251115T190505Z
LAST-MODIFIED:20251115T190505Z
UID:167771-1765497600-1765583999@www.northeastohioparent.com
SUMMARY:Float-N-Flick
DESCRIPTION:Enjoy Family Movie night (Toy Story) while floating in your favorite inner tube. 7-9 p.m.  
URL:https://www.northeastohioparent.com/event/float-n-flick-2/
LOCATION:Mentor Community Recreation Center\, 6000 Heisley Rd.\, Mentor\, OH\, United States
CATEGORIES:Movie,Special Event
END:VEVENT
END:VCALENDAR