BEGIN:VCALENDAR
VERSION:2.0
PRODID:-//Northeast Ohio Parent - ECPv5.16.4//NONSGML v1.0//EN
CALSCALE:GREGORIAN
METHOD:PUBLISH
X-WR-CALNAME:Northeast Ohio Parent
X-ORIGINAL-URL:https://www.northeastohioparent.com
X-WR-CALDESC:Events for Northeast Ohio Parent
BEGIN:VTIMEZONE
TZID:America/New_York
BEGIN:DAYLIGHT
TZOFFSETFROM:-0500
TZOFFSETTO:-0400
TZNAME:EDT
DTSTART:20260308T070000
END:DAYLIGHT
BEGIN:STANDARD
TZOFFSETFROM:-0400
TZOFFSETTO:-0500
TZNAME:EST
DTSTART:20261101T060000
END:STANDARD
END:VTIMEZONE
BEGIN:VEVENT
DTSTART;VALUE=DATE:20260510
DTEND;VALUE=DATE:20260603
DTSTAMP:20260425T180337
CREATED:20260417T213857Z
LAST-MODIFIED:20260417T213857Z
UID:191668-1778371200-1780444799@www.northeastohioparent.com
SUMMARY:Free Admission to the Akron Zoo
DESCRIPTION:Free admission for all moms and grandmas. 10 a.m.-5 p.m. 
URL:https://www.northeastohioparent.com/event/free-admission-to-the-akron-zoo/
LOCATION:Akron Zoo\, 505 Euclid Ave\, Akron\, OH\, 44307\, United States
CATEGORIES:Mother's Day,Zoo
END:VEVENT
END:VCALENDAR