BEGIN:VCALENDAR
VERSION:2.0
PRODID:-//Northeast Ohio Parent - ECPv5.16.4//NONSGML v1.0//EN
CALSCALE:GREGORIAN
METHOD:PUBLISH
X-WR-CALNAME:Northeast Ohio Parent
X-ORIGINAL-URL:https://www.northeastohioparent.com
X-WR-CALDESC:Events for Northeast Ohio Parent
BEGIN:VTIMEZONE
TZID:America/New_York
BEGIN:DAYLIGHT
TZOFFSETFROM:-0500
TZOFFSETTO:-0400
TZNAME:EDT
DTSTART:20260308T070000
END:DAYLIGHT
BEGIN:STANDARD
TZOFFSETFROM:-0400
TZOFFSETTO:-0500
TZNAME:EST
DTSTART:20261101T060000
END:STANDARD
END:VTIMEZONE
BEGIN:VEVENT
DTSTART;VALUE=DATE:20260510
DTEND;VALUE=DATE:20260511
DTSTAMP:20260424T042604
CREATED:20260417T213959Z
LAST-MODIFIED:20260417T213959Z
UID:191670-1778371200-1778457599@www.northeastohioparent.com
SUMMARY:Free Admission to the Cleveland Metroparks Zoo
DESCRIPTION:Mothers receive free zoo admission. 
URL:https://www.northeastohioparent.com/event/free-admission-to-the-cleveland-metroparks-zoo/
LOCATION:Cleveland Metroparks Zoo\, 3900 Wildlife Way\, Cleveland\, OH\, 44109\, United States
CATEGORIES:Mother's Day,Zoo
GEO:41.445521;-81.7079442
X-APPLE-STRUCTURED-LOCATION;VALUE=URI;X-ADDRESS=Cleveland Metroparks Zoo 3900 Wildlife Way Cleveland OH 44109 United States;X-APPLE-RADIUS=500;X-TITLE=3900 Wildlife Way:geo:-81.7079442,41.445521
END:VEVENT
END:VCALENDAR