BEGIN:VCALENDAR
VERSION:2.0
PRODID:-//Northeast Ohio Parent - ECPv5.16.4//NONSGML v1.0//EN
CALSCALE:GREGORIAN
METHOD:PUBLISH
X-WR-CALNAME:Northeast Ohio Parent
X-ORIGINAL-URL:https://www.northeastohioparent.com
X-WR-CALDESC:Events for Northeast Ohio Parent
BEGIN:VTIMEZONE
TZID:America/New_York
BEGIN:DAYLIGHT
TZOFFSETFROM:-0500
TZOFFSETTO:-0400
TZNAME:EDT
DTSTART:20260308T070000
END:DAYLIGHT
BEGIN:STANDARD
TZOFFSETFROM:-0400
TZOFFSETTO:-0500
TZNAME:EST
DTSTART:20261101T060000
END:STANDARD
END:VTIMEZONE
BEGIN:VEVENT
DTSTART;VALUE=DATE:20260523
DTEND;VALUE=DATE:20260524
DTSTAMP:20260422T142542
CREATED:20260418T002029Z
LAST-MODIFIED:20260418T002029Z
UID:191709-1779494400-1779580799@www.northeastohioparent.com
SUMMARY:Free Passenger Fare for Active Military & Veterans
DESCRIPTION:Miller Ferry to Put-in-Bay or Middle Bass Island. 
URL:https://www.northeastohioparent.com/event/free-passenger-fare-for-active-military-veterans/
LOCATION:Miller Ferry\, 5174 E Water Street\, Port Clinton\, OH\, United States
CATEGORIES:Memorial Day,Special Event
END:VEVENT
END:VCALENDAR