BEGIN:VCALENDAR
VERSION:2.0
PRODID:-//Northeast Ohio Parent - ECPv5.16.4//NONSGML v1.0//EN
CALSCALE:GREGORIAN
METHOD:PUBLISH
X-WR-CALNAME:Northeast Ohio Parent
X-ORIGINAL-URL:https://www.northeastohioparent.com
X-WR-CALDESC:Events for Northeast Ohio Parent
BEGIN:VTIMEZONE
TZID:America/New_York
BEGIN:DAYLIGHT
TZOFFSETFROM:-0500
TZOFFSETTO:-0400
TZNAME:EDT
DTSTART:20260308T070000
END:DAYLIGHT
BEGIN:STANDARD
TZOFFSETFROM:-0400
TZOFFSETTO:-0500
TZNAME:EST
DTSTART:20261101T060000
END:STANDARD
END:VTIMEZONE
BEGIN:VEVENT
DTSTART;VALUE=DATE:20260509
DTEND;VALUE=DATE:20260510
DTSTAMP:20260425T164010
CREATED:20260418T152957Z
LAST-MODIFIED:20260418T152957Z
UID:191767-1778284800-1778371199@www.northeastohioparent.com
SUMMARY:Friendship Club
DESCRIPTION:Judgment-free social opportunity where caregivers and children with Autism connect. 2nd and 4th Saturdays. Ages 7-12. 10:30 a.m. 
URL:https://www.northeastohioparent.com/event/friendship-club-2/
LOCATION:Autism Society of Greater Akron\, 2858 W. Market St.\, Akron
CATEGORIES:Social Skills,Special Needs
GEO:41.0553988;-81.4395521
X-APPLE-STRUCTURED-LOCATION;VALUE=URI;X-ADDRESS=Autism Society of Greater Akron 2858 W. Market St. Akron;X-APPLE-RADIUS=500;X-TITLE=2858 W. Market St.:geo:-81.4395521,41.0553988
END:VEVENT
END:VCALENDAR