BEGIN:VCALENDAR
VERSION:2.0
PRODID:-//Northeast Ohio Parent - ECPv5.16.4//NONSGML v1.0//EN
CALSCALE:GREGORIAN
METHOD:PUBLISH
X-WR-CALNAME:Northeast Ohio Parent
X-ORIGINAL-URL:https://www.northeastohioparent.com
X-WR-CALDESC:Events for Northeast Ohio Parent
BEGIN:VTIMEZONE
TZID:America/New_York
BEGIN:DAYLIGHT
TZOFFSETFROM:-0500
TZOFFSETTO:-0400
TZNAME:EDT
DTSTART:20250309T070000
END:DAYLIGHT
BEGIN:STANDARD
TZOFFSETFROM:-0400
TZOFFSETTO:-0500
TZNAME:EST
DTSTART:20251102T060000
END:STANDARD
END:VTIMEZONE
BEGIN:VEVENT
DTSTART;TZID=America/New_York:20250806T080000
DTEND;TZID=America/New_York:20250806T170000
DTSTAMP:20260422T074553
CREATED:20250506T124550Z
LAST-MODIFIED:20250506T124550Z
UID:154980-1754467200-1754499600@www.northeastohioparent.com
SUMMARY:Fun on the Farm
DESCRIPTION:Pony and pony cart rides\, horse rides and more. June-August. 10 a.m.-8 p.m.
URL:https://www.northeastohioparent.com/event/fun-on-the-farm/2025-08-06/
LOCATION:OH\, United States
GEO:41.458335;-81.307086
END:VEVENT
END:VCALENDAR