BEGIN:VCALENDAR
VERSION:2.0
PRODID:-//Northeast Ohio Parent - ECPv5.16.4//NONSGML v1.0//EN
CALSCALE:GREGORIAN
METHOD:PUBLISH
X-WR-CALNAME:Northeast Ohio Parent
X-ORIGINAL-URL:https://www.northeastohioparent.com
X-WR-CALDESC:Events for Northeast Ohio Parent
BEGIN:VTIMEZONE
TZID:America/New_York
BEGIN:DAYLIGHT
TZOFFSETFROM:-0500
TZOFFSETTO:-0400
TZNAME:EDT
DTSTART:20250309T070000
END:DAYLIGHT
BEGIN:STANDARD
TZOFFSETFROM:-0400
TZOFFSETTO:-0500
TZNAME:EST
DTSTART:20251102T060000
END:STANDARD
END:VTIMEZONE
BEGIN:VEVENT
DTSTART;VALUE=DATE:20251231
DTEND;VALUE=DATE:20260101
DTSTAMP:20260423T203258
CREATED:20251114T214707Z
LAST-MODIFIED:20251114T214707Z
UID:167631-1767139200-1767225599@www.northeastohioparent.com
SUMMARY:Generations Social Club NYE Celebration
DESCRIPTION:Dance\, party and enjoy the amenities. 7 p.m. -5 p.m.
URL:https://www.northeastohioparent.com/event/generations-social-club-nye-celebration/
LOCATION:Holiday Inn Conference Center Rockside Road\, Independence\, OH\, United States
CATEGORIES:Dancing,Music,New Year's Eve
END:VEVENT
END:VCALENDAR