BEGIN:VCALENDAR
VERSION:2.0
PRODID:-//Northeast Ohio Parent - ECPv5.16.4//NONSGML v1.0//EN
CALSCALE:GREGORIAN
METHOD:PUBLISH
X-WR-CALNAME:Northeast Ohio Parent
X-ORIGINAL-URL:https://www.northeastohioparent.com
X-WR-CALDESC:Events for Northeast Ohio Parent
BEGIN:VTIMEZONE
TZID:America/New_York
BEGIN:DAYLIGHT
TZOFFSETFROM:-0500
TZOFFSETTO:-0400
TZNAME:EDT
DTSTART:20250309T070000
END:DAYLIGHT
BEGIN:STANDARD
TZOFFSETFROM:-0400
TZOFFSETTO:-0500
TZNAME:EST
DTSTART:20251102T060000
END:STANDARD
END:VTIMEZONE
BEGIN:VEVENT
DTSTART;TZID=America/New_York:20251203T190000
DTEND;TZID=America/New_York:20251203T200000
DTSTAMP:20260424T154626
CREATED:20251201T140630Z
LAST-MODIFIED:20251201T140642Z
UID:168860-1764788400-1764792000@www.northeastohioparent.com
SUMMARY:Gingerbread Ornaments
DESCRIPTION:Let’s make something sweet for the Christmas tree.\nCome to the Shore Cultural Centre on December 3 at 7:00 pm to make your very own Gingerbread Ornament. This simple craft is fun to make\, and it will smell amazing wherever you choose to hang it. For families.
URL:https://www.northeastohioparent.com/event/gingerbread-ornaments/
LOCATION:Shore Cultural Ctr.\, 291 East 222 St.\, Euclid\, 44123
ATTACH;FMTTYPE=image/jpeg:https://www.northeastohioparent.com/wp-content/uploads/2025/11/DEC-POST-3-Gingerbread-Ornaments-12-3.jpg
END:VEVENT
END:VCALENDAR