BEGIN:VCALENDAR
VERSION:2.0
PRODID:-//Northeast Ohio Parent - ECPv5.16.4//NONSGML v1.0//EN
CALSCALE:GREGORIAN
METHOD:PUBLISH
X-WR-CALNAME:Northeast Ohio Parent
X-ORIGINAL-URL:https://www.northeastohioparent.com
X-WR-CALDESC:Events for Northeast Ohio Parent
BEGIN:VTIMEZONE
TZID:America/New_York
BEGIN:DAYLIGHT
TZOFFSETFROM:-0500
TZOFFSETTO:-0400
TZNAME:EDT
DTSTART:20250309T070000
END:DAYLIGHT
BEGIN:STANDARD
TZOFFSETFROM:-0400
TZOFFSETTO:-0500
TZNAME:EST
DTSTART:20251102T060000
END:STANDARD
END:VTIMEZONE
BEGIN:VEVENT
DTSTART;VALUE=DATE:20250803
DTEND;VALUE=DATE:20250804
DTSTAMP:20260422T120036
CREATED:20250803T214710Z
LAST-MODIFIED:20250803T214710Z
UID:157968-1754179200-1754265599@www.northeastohioparent.com
SUMMARY:Gone Fishin’
DESCRIPTION:Kids ages 15 and younger learn the basics of fishing and drop a line.  10-11:30 a.m.
URL:https://www.northeastohioparent.com/event/gone-fishin/
LOCATION:Liberty Park Nature Center\, 9999 Liberty Road\, Twinsburg
CATEGORIES:Outdoors,Sports
GEO:41.3366153;-81.4190109
X-APPLE-STRUCTURED-LOCATION;VALUE=URI;X-ADDRESS=Liberty Park Nature Center 9999 Liberty Road Twinsburg;X-APPLE-RADIUS=500;X-TITLE=9999 Liberty Road:geo:-81.4190109,41.3366153
END:VEVENT
END:VCALENDAR