BEGIN:VCALENDAR
VERSION:2.0
PRODID:-//Northeast Ohio Parent - ECPv5.16.4//NONSGML v1.0//EN
CALSCALE:GREGORIAN
METHOD:PUBLISH
X-WR-CALNAME:Northeast Ohio Parent
X-ORIGINAL-URL:https://www.northeastohioparent.com
X-WR-CALDESC:Events for Northeast Ohio Parent
BEGIN:VTIMEZONE
TZID:America/New_York
BEGIN:DAYLIGHT
TZOFFSETFROM:-0500
TZOFFSETTO:-0400
TZNAME:EDT
DTSTART:20250309T070000
END:DAYLIGHT
BEGIN:STANDARD
TZOFFSETFROM:-0400
TZOFFSETTO:-0500
TZNAME:EST
DTSTART:20251102T060000
END:STANDARD
END:VTIMEZONE
BEGIN:VEVENT
DTSTART;VALUE=DATE:20251119
DTEND;VALUE=DATE:20251120
DTSTAMP:20260424T213410
CREATED:20251009T164630Z
LAST-MODIFIED:20251009T164630Z
UID:162800-1763510400-1763596799@www.northeastohioparent.com
SUMMARY:Gratitude Rock Painting
DESCRIPTION:A gratitude-themed rock painting activity for all ages. 3:30-4:30 p.m. 
URL:https://www.northeastohioparent.com/event/gratitude-rock-painting/
LOCATION:North Hill Branch Library\, 183 East Cuyahoga Falls Avenue\, Akron
CATEGORIES:Art,Library,Thanksgiving
GEO:41.1082014;-81.50948
X-APPLE-STRUCTURED-LOCATION;VALUE=URI;X-ADDRESS=North Hill Branch Library 183 East Cuyahoga Falls Avenue Akron;X-APPLE-RADIUS=500;X-TITLE=183 East Cuyahoga Falls Avenue:geo:-81.50948,41.1082014
END:VEVENT
END:VCALENDAR