BEGIN:VCALENDAR
VERSION:2.0
PRODID:-//Northeast Ohio Parent - ECPv5.16.4//NONSGML v1.0//EN
CALSCALE:GREGORIAN
METHOD:PUBLISH
X-WR-CALNAME:Northeast Ohio Parent
X-ORIGINAL-URL:https://www.northeastohioparent.com
X-WR-CALDESC:Events for Northeast Ohio Parent
BEGIN:VTIMEZONE
TZID:America/New_York
BEGIN:DAYLIGHT
TZOFFSETFROM:-0500
TZOFFSETTO:-0400
TZNAME:EDT
DTSTART:20260308T070000
END:DAYLIGHT
BEGIN:STANDARD
TZOFFSETFROM:-0400
TZOFFSETTO:-0500
TZNAME:EST
DTSTART:20261101T060000
END:STANDARD
END:VTIMEZONE
BEGIN:VEVENT
DTSTART;VALUE=DATE:20260604
DTEND;VALUE=DATE:20260605
DTSTAMP:20260422T204651
CREATED:20260418T141315Z
LAST-MODIFIED:20260418T141315Z
UID:191757-1780531200-1780617599@www.northeastohioparent.com
SUMMARY:Growing and Grounded
DESCRIPTION:Learn grounding skills through expressive arts\, gain self-awareness\, develop coping skills\, and learn how to navigate challenges. Classes are facilitated by a licensed therapist. Participants will experience connection to self and others while exploring shared feelings\, events\, and circumstances.\n\n\nChildren faced with challenges\, including anxiety\, inattention\, hyperactivity\, impulsivity\, emotional dysregulation\, and/or difficulty connecting with others\, will benefit from this group. No previous arts experience needed.\n\n \n\n\nAges 7-11. 
URL:https://www.northeastohioparent.com/event/growing-and-grounded/2026-06-04/
LOCATION:Fairmount Center for the Arts\, 8400 Fairmount rd\, Novelty\, 44072
CATEGORIES:Art,Special Needs
ATTACH;FMTTYPE=image/png:https://www.northeastohioparent.com/wp-content/uploads/2026/04/fairmount.png
END:VEVENT
END:VCALENDAR