BEGIN:VCALENDAR
VERSION:2.0
PRODID:-//Northeast Ohio Parent - ECPv5.16.4//NONSGML v1.0//EN
CALSCALE:GREGORIAN
METHOD:PUBLISH
X-WR-CALNAME:Northeast Ohio Parent
X-ORIGINAL-URL:https://www.northeastohioparent.com
X-WR-CALDESC:Events for Northeast Ohio Parent
BEGIN:VTIMEZONE
TZID:America/New_York
BEGIN:DAYLIGHT
TZOFFSETFROM:-0500
TZOFFSETTO:-0400
TZNAME:EDT
DTSTART:20260308T070000
END:DAYLIGHT
BEGIN:STANDARD
TZOFFSETFROM:-0400
TZOFFSETTO:-0500
TZNAME:EST
DTSTART:20261101T060000
END:STANDARD
END:VTIMEZONE
BEGIN:VEVENT
DTSTART;VALUE=DATE:20260503
DTEND;VALUE=DATE:20260504
DTSTAMP:20260425T124451
CREATED:20260418T194715Z
LAST-MODIFIED:20260418T194715Z
UID:191843-1777766400-1777852799@www.northeastohioparent.com
SUMMARY:Healthy Kids Day
DESCRIPTION:Free activities focused on active physical play\, nutrition education\, STEM\, the arts\, and more. \n\n\nFor over 30 years\, Ys have celebrated Healthy Kids Day by hosting these events.  This year\, the Akron Area YMCA association will be joining together to present an afternoon highlighting the great things that the Y offers.\n\n \n\n\nAges 3-12 years.\n\n\n1-4 p.m. 
URL:https://www.northeastohioparent.com/event/healthy-kids-day/
LOCATION:Camp Y-Noah\, 815 Mt. Pleasant Road\, Uniontown\, 44685
CATEGORIES:Health,Science,Technology
ATTACH;FMTTYPE=image/webp:https://www.northeastohioparent.com/wp-content/uploads/2026/04/healthykidsday.webp
END:VEVENT
END:VCALENDAR