BEGIN:VCALENDAR
VERSION:2.0
PRODID:-//Northeast Ohio Parent - ECPv5.16.4//NONSGML v1.0//EN
CALSCALE:GREGORIAN
METHOD:PUBLISH
X-WR-CALNAME:Northeast Ohio Parent
X-ORIGINAL-URL:https://www.northeastohioparent.com
X-WR-CALDESC:Events for Northeast Ohio Parent
BEGIN:VTIMEZONE
TZID:America/New_York
BEGIN:DAYLIGHT
TZOFFSETFROM:-0500
TZOFFSETTO:-0400
TZNAME:EDT
DTSTART:20250309T070000
END:DAYLIGHT
BEGIN:STANDARD
TZOFFSETFROM:-0400
TZOFFSETTO:-0500
TZNAME:EST
DTSTART:20251102T060000
END:STANDARD
END:VTIMEZONE
BEGIN:VEVENT
DTSTART;VALUE=DATE:20251128
DTEND;VALUE=DATE:20251129
DTSTAMP:20260424T155126
CREATED:20251009T171100Z
LAST-MODIFIED:20251009T171102Z
UID:162816-1764288000-1764374399@www.northeastohioparent.com
SUMMARY:Hike Your Turkey Off
DESCRIPTION:Hike off the Thanksgiving turkey with a strenuous\, steady-paced\, calorie-burning 8-mile hike. Registration Required. Ages 12 and up. 9 a.m.-12:30 p.m. 
URL:https://www.northeastohioparent.com/event/hike-your-turkey-off/
LOCATION:The West Woods\, Affelder House\, 9465 Kinsman Road\, Russell\, OH\, United States
CATEGORIES:Exercise,Thanksgiving
ATTACH;FMTTYPE=image/jpeg:https://www.northeastohioparent.com/wp-content/uploads/2017/05/Elevation-hike_Melanie-Nesteruk.jpg
END:VEVENT
END:VCALENDAR