BEGIN:VCALENDAR
VERSION:2.0
PRODID:-//Northeast Ohio Parent - ECPv5.16.4//NONSGML v1.0//EN
CALSCALE:GREGORIAN
METHOD:PUBLISH
X-WR-CALNAME:Northeast Ohio Parent
X-ORIGINAL-URL:https://www.northeastohioparent.com
X-WR-CALDESC:Events for Northeast Ohio Parent
BEGIN:VTIMEZONE
TZID:America/New_York
BEGIN:DAYLIGHT
TZOFFSETFROM:-0500
TZOFFSETTO:-0400
TZNAME:EDT
DTSTART:20250309T070000
END:DAYLIGHT
BEGIN:STANDARD
TZOFFSETFROM:-0400
TZOFFSETTO:-0500
TZNAME:EST
DTSTART:20251102T060000
END:STANDARD
END:VTIMEZONE
BEGIN:VEVENT
DTSTART;VALUE=DATE:20251219
DTEND;VALUE=DATE:20251220
DTSTAMP:20260424T025747
CREATED:20251114T203205Z
LAST-MODIFIED:20251114T203205Z
UID:167596-1766102400-1766188799@www.northeastohioparent.com
SUMMARY:Holiday Cardmaking for Ages 6-9
DESCRIPTION:Join us for a cardmaking workshop! Kids will craft wintery cards just in time for the holiday season. 10 a.m.-1 p.m. 
URL:https://www.northeastohioparent.com/event/holiday-cardmaking-for-ages-6-9/
LOCATION:Valley Art Center\, 155 Bell Street\, Chagrin Falls\, United States
CATEGORIES:Crafts,Holiday
GEO:41.4324505;-81.3863555
X-APPLE-STRUCTURED-LOCATION;VALUE=URI;X-ADDRESS=Valley Art Center 155 Bell Street Chagrin Falls United States;X-APPLE-RADIUS=500;X-TITLE=155 Bell Street:geo:-81.3863555,41.4324505
END:VEVENT
END:VCALENDAR